Workbook

Sheet Start Here
B1: JOB SEARCH WORKBOOK
B2: Start Here | F2: Set up once, then track every application | J2: =TEXT(TODAY(),"ddd")&" · "&TEXT(TODAY(),"dd mmm yyyy") -> Tue · 06 Oct 2026
B5: How to use this workbook | F5: Dropdown lists
B6: 1 | C6: Fill in your details | F6: Edit these once and every sheet uses your version
C7: Add your name, job title and target pay in the cream cells.
B8: 2 | C8: Log every application | F8: STATUS (keep this order) | H8: SOURCE | J8: INTERVIEW MODE
C9: One row per job on Applications. Use the dropdowns. | F9: Wishlist | H9: LinkedIn | J9: Phone
B10: 3 | C10: Update the status as you go | F10: Applied | H10: Indeed | J10: Video
C11: Colors, calendar and dashboard update by themselves. | F11: Interviewing | H11: Company site | J11: On-site
B12: 4 | C12: Check the Dashboard each week | F12: Offer | H12: Referral | J12: Online test
C13: See follow-ups, interviews and your response rate. | F13: Rejected | H13: Recruiter | J13: Assessment center
F14: Withdrawn | H14: Other | J14: Other
B16: Your details | F16: Color key
C17: Your name | D17: [Your name] | F17: Cream cells | H17: You type here
C18: Target job title | D18: [Target job title] | F18: White cells | H18: Calculated for you, no need to edit
C19: Target salary (per year) | F19: Status chips | H19: The color follows the status you pick
C20: Currency (for example USD) | D20: USD
C21: Job search started on | F21: Tip: you can rename a status, but keep the order. Colors and counts follow the position in the list.
C22: Today (automatic) | D22: =TODAY() -> 46301
B25: Sheets in this workbook | F25: Good to know
C26: Dashboard | D26: Your whole job search at a glance | F26: This is the blank version. Start by typing your first application on the Applications sheet.
C27: Applications | D27: One row per job you apply for
C28: Interviews | D28: Every round, prep and result | F28: Rows are ready for 500 applications and 500 interview rounds. To add more, copy the last row down.
C29: Offers | D29: Compare offers against your target pay
C30: Calendar | D30: Interviews, follow-ups and deadlines | F30: The Calendar and the Dashboard work for any month and year, now or in the future.
C31: Companies | D31: Research the workplace before you apply
C32: Resume Bullets | D32: Achievements ready to paste | F32: Works in Excel and in Google Sheets. Cream cells are inputs, white cells are formulas.
F34: Dates, times and amounts follow your computer settings. Type dates like 15 Oct 2026.

Sheet Dashboard
B1: JOB SEARCH WORKBOOK
B2: Dashboard | Q2: Your whole job search at a glance | AJ2: =TEXT(TODAY(),"ddd")&" · "&TEXT(TODAY(),"dd mmm yyyy") -> Tue · 06 Oct 2026 | AQ2: =IF(OR(F5="All",F5=""),">=0",IFERROR(MATCH(F5,Lists!$A$2:$A$13,0),">=0")) -> >=0
AQ3: =IF(OR(M5="All",M5=""),">=0",IFERROR(VALUE(M5&""),">=0")) -> >=0
AQ4: =IF(AND(AQ2=">=0",AQ3=">=0"),"all time",IF(AQ3=">=0",F5&" (all years)",IF(AQ2=">=0","year "&M5,F5&" "&M5))) -> all time
B5: Month applied | F5: All | K5: Year | M5: All | Q5: =IF(AQ4="all time","Showing all time. Counts and charts follow this filter. Due dates and Next up always show what is coming.","Showing "&AQ4&". Counts and charts follow this filter. Due dates and Next up always show what is coming.") -> Showing all time. Counts and charts follow this filter. Due dates and Next up always show what is coming.
B7: APPLICATIONS | J7: IN INTERVIEWS | R7: OFFERS | Z7: RESPONSE RATE | AH7: FOLLOW-UPS DUE
B8: =COUNTIFS(App_Company,"<>",App_Status,"<>"&St_Wishlist,App_Month,F_M,App_Year,F_Y) -> 0 | J8: =COUNTIFS(App_Status,St_Interviewing,App_Month,F_M,App_Year,F_Y) -> 0 | R8: =COUNTIFS(App_Status,St_Offer,App_Month,F_M,App_Year,F_Y) -> 0 | Z8: =IF(B8=0,0,(COUNTIFS(App_Status,St_Interviewing,App_Month,F_M,App_Year,F_Y)+COUNTIFS(App_Status,St_Offer,App_Month,F_M,App_Year,F_Y)+COUNTIFS(App_Status,St_Rejected,App_Month,F_M,App_Year,F_Y))/B8) -> 0 | AH8: =COUNTIF(App_FollowKey,"<"&(TODAY()+1)) -> 0
B9: =IF(AQ4="all time",IF(SearchStart="","Tracked so far","Tracked since "&TEXT(SearchStart,"dd mmm yyyy")),"Applied in "&AQ4) -> Tracked so far | J9: =COUNTIF(Int_Key,"<"&(TODAY()+7))&" scheduled in the next 7 days" -> 0 scheduled in the next 7 days | R9: =IF(N(TargetSalary)=0,"Set a target on Start Here","Offers sheet: "&COUNTIF(Offers!$C$18:$F$18,">="&TargetSalary)&" at or above target") -> Set a target on Start Here | Z9: =ROUND(Z8*B8,0)&" of "&B8&" replied" -> 0 of 0 replied | AH9: =COUNTIF(App_FollowKey,"<"&TODAY())&" overdue · "&(COUNTIF(App_FollowKey,"<"&(TODAY()+1))-COUNTIF(App_FollowKey,"<"&TODAY()))&" due today" -> 0 overdue · 0 due today
B11: Applications by status | O11: Where applications came from | AC11: Next up
B12: ="Total tracked: "&SUM(K24:K29) -> Total tracked: 0 | O12: Applications and offers per source | AC12: Follow-ups and interviews, soonest first
AC13: FOLLOW-UPS
AC14: =IF(AQ14="","",TEXT(INDEX(App_FollowOn,AQ14),"dd")&CHAR(10)&UPPER(TEXT(INDEX(App_FollowOn,AQ14),"mmm"))) | AE14: =IF(AQ14="",IF(COUNT(App_FollowKey)=0,"No follow-ups scheduled",""),INDEX(App_Company,AQ14)) -> No follow-ups scheduled | AK14: =IF(AQ14="","",INDEX(App_FollowStatus,AQ14)) | AQ14: =IFERROR(MATCH(SMALL(App_FollowKey,1),App_FollowKey,0),"")
AE15: =IF(AQ14="","",INDEX(App_Status,AQ14)&IF(ISNUMBER(INDEX(App_DaysOpen,AQ14))," · "&INDEX(App_DaysOpen,AQ14)&" days open",""))
AC16: =IF(AQ16="","",TEXT(INDEX(App_FollowOn,AQ16),"dd")&CHAR(10)&UPPER(TEXT(INDEX(App_FollowOn,AQ16),"mmm"))) | AE16: =IF(AQ16="","",INDEX(App_Company,AQ16)) | AK16: =IF(AQ16="","",INDEX(App_FollowStatus,AQ16)) | AQ16: =IFERROR(MATCH(SMALL(App_FollowKey,2),App_FollowKey,0),"")
AE17: =IF(AQ16="","",INDEX(App_Status,AQ16)&IF(ISNUMBER(INDEX(App_DaysOpen,AQ16))," · "&INDEX(App_DaysOpen,AQ16)&" days open",""))
AC18: =IF(AQ18="","",TEXT(INDEX(App_FollowOn,AQ18),"dd")&CHAR(10)&UPPER(TEXT(INDEX(App_FollowOn,AQ18),"mmm"))) | AE18: =IF(AQ18="","",INDEX(App_Company,AQ18)) | AK18: =IF(AQ18="","",INDEX(App_FollowStatus,AQ18)) | AQ18: =IFERROR(MATCH(SMALL(App_FollowKey,3),App_FollowKey,0),"")
AE19: =IF(AQ18="","",INDEX(App_Status,AQ18)&IF(ISNUMBER(INDEX(App_DaysOpen,AQ18))," · "&INDEX(App_DaysOpen,AQ18)&" days open",""))
AC20: =IF(AQ20="","",TEXT(INDEX(App_FollowOn,AQ20),"dd")&CHAR(10)&UPPER(TEXT(INDEX(App_FollowOn,AQ20),"mmm"))) | AE20: =IF(AQ20="","",INDEX(App_Company,AQ20)) | AK20: =IF(AQ20="","",INDEX(App_FollowStatus,AQ20)) | AQ20: =IFERROR(MATCH(SMALL(App_FollowKey,4),App_FollowKey,0),"")
AE21: =IF(AQ20="","",INDEX(App_Status,AQ20)&IF(ISNUMBER(INDEX(App_DaysOpen,AQ20))," · "&INDEX(App_DaysOpen,AQ20)&" days open",""))
AC23: INTERVIEWS
C24: =St_Applied -> Applied | K24: =COUNTIFS(App_Status,St_Applied,App_Month,F_M,App_Year,F_Y) -> 0 | AC24: =IF(AQ24="","",TEXT(INT(SMALL(Int_Key,1)),"dd")&CHAR(10)&UPPER(TEXT(INT(SMALL(Int_Key,1)),"mmm"))) | AE24: =IF(AQ24="",IF(COUNT(Int_Key)=0,"No upcoming interviews",""),INDEX(Int_Company,AQ24)) -> No upcoming interviews | AK24: =IF(AQ24="","",IF(INT(SMALL(Int_Key,1))=TODAY(),"Today",IF(INT(SMALL(Int_Key,1))=TODAY()+1,"Tomorrow","In "&(INT(SMALL(Int_Key,1))-TODAY())&" days"))) | AQ24: =IFERROR(MATCH(SMALL(Int_Key,1),Int_Key,0),"")
C25: =St_Interviewing -> Interviewing | K25: =COUNTIFS(App_Status,St_Interviewing,App_Month,F_M,App_Year,F_Y) -> 0 | O25: SOURCE | W25: APPLIED | Y25: OFFERS | AE25: =IF(AQ24="","",INDEX(Int_Round,AQ24)&IF(INDEX(Int_Time,AQ24)="",""," · "&TEXT(INDEX(Int_Time,AQ24),"h:mm AM/PM")))
C26: =St_Offer -> Offer | K26: =COUNTIFS(App_Status,St_Offer,App_Month,F_M,App_Year,F_Y) -> 0 | O26: =IF('Start Here'!H9="","",'Start Here'!H9) -> LinkedIn | W26: =IF(O26="",0,COUNTIFS(App_Source,O26,App_Status,"<>"&St_Wishlist,App_Month,F_M,App_Year,F_Y)) -> 0 | Y26: =IF(O26="",0,COUNTIFS(App_Source,O26,App_Status,St_Offer,App_Month,F_M,App_Year,F_Y)) -> 0 | AC26: =IF(AQ26="","",TEXT(INT(SMALL(Int_Key,2)),"dd")&CHAR(10)&UPPER(TEXT(INT(SMALL(Int_Key,2)),"mmm"))) | AE26: =IF(AQ26="","",INDEX(Int_Company,AQ26)) | AK26: =IF(AQ26="","",IF(INT(SMALL(Int_Key,2))=TODAY(),"Today",IF(INT(SMALL(Int_Key,2))=TODAY()+1,"Tomorrow","In "&(INT(SMALL(Int_Key,2))-TODAY())&" days"))) | AQ26: =IFERROR(MATCH(SMALL(Int_Key,2),Int_Key,0),"")
C27: =St_Rejected -> Rejected | K27: =COUNTIFS(App_Status,St_Rejected,App_Month,F_M,App_Year,F_Y) -> 0 | O27: =IF('Start Here'!H10="","",'Start Here'!H10) -> Indeed | W27: =IF(O27="",0,COUNTIFS(App_Source,O27,App_Status,"<>"&St_Wishlist,App_Month,F_M,App_Year,F_Y)) -> 0 | Y27: =IF(O27="",0,COUNTIFS(App_Source,O27,App_Status,St_Offer,App_Month,F_M,App_Year,F_Y)) -> 0 | AE27: =IF(AQ26="","",INDEX(Int_Round,AQ26)&IF(INDEX(Int_Time,AQ26)="",""," · "&TEXT(INDEX(Int_Time,AQ26),"h:mm AM/PM")))
C28: =St_Withdrawn -> Withdrawn | K28: =COUNTIFS(App_Status,St_Withdrawn,App_Month,F_M,App_Year,F_Y) -> 0 | O28: =IF('Start Here'!H11="","",'Start Here'!H11) -> Company site | W28: =IF(O28="",0,COUNTIFS(App_Source,O28,App_Status,"<>"&St_Wishlist,App_Month,F_M,App_Year,F_Y)) -> 0 | Y28: =IF(O28="",0,COUNTIFS(App_Source,O28,App_Status,St_Offer,App_Month,F_M,App_Year,F_Y)) -> 0 | AC28: =IF(AQ28="","",TEXT(INT(SMALL(Int_Key,3)),"dd")&CHAR(10)&UPPER(TEXT(INT(SMALL(Int_Key,3)),"mmm"))) | AE28: =IF(AQ28="","",INDEX(Int_Company,AQ28)) | AK28: =IF(AQ28="","",IF(INT(SMALL(Int_Key,3))=TODAY(),"Today",IF(INT(SMALL(Int_Key,3))=TODAY()+1,"Tomorrow","In "&(INT(SMALL(Int_Key,3))-TODAY())&" days"))) | AQ28: =IFERROR(MATCH(SMALL(Int_Key,3),Int_Key,0),"")
C29: =St_Wishlist -> Wishlist | K29: =COUNTIFS(App_Status,St_Wishlist,App_Month,F_M,App_Year,F_Y) -> 0 | O29: =IF('Start Here'!H12="","",'Start Here'!H12) -> Referral | W29: =IF(O29="",0,COUNTIFS(App_Source,O29,App_Status,"<>"&St_Wishlist,App_Month,F_M,App_Year,F_Y)) -> 0 | Y29: =IF(O29="",0,COUNTIFS(App_Source,O29,App_Status,St_Offer,App_Month,F_M,App_Year,F_Y)) -> 0 | AE29: =IF(AQ28="","",INDEX(Int_Round,AQ28)&IF(INDEX(Int_Time,AQ28)="",""," · "&TEXT(INDEX(Int_Time,AQ28),"h:mm AM/PM")))
O30: =IF('Start Here'!H13="","",'Start Here'!H13) -> Recruiter | W30: =IF(O30="",0,COUNTIFS(App_Source,O30,App_Status,"<>"&St_Wishlist,App_Month,F_M,App_Year,F_Y)) -> 0 | Y30: =IF(O30="",0,COUNTIFS(App_Source,O30,App_Status,St_Offer,App_Month,F_M,App_Year,F_Y)) -> 0
B31: Counts follow the month and year filter above. | O31: =IF('Start Here'!H14="","",'Start Here'!H14) -> Other | W31: =IF(O31="",0,COUNTIFS(App_Source,O31,App_Status,"<>"&St_Wishlist,App_Month,F_M,App_Year,F_Y)) -> 0 | Y31: =IF(O31="",0,COUNTIFS(App_Source,O31,App_Status,St_Offer,App_Month,F_M,App_Year,F_Y)) -> 0 | AC31: The Applications and Interviews sheets hold the full lists.
O32: =IF(MAX(Y26:Y31)=0,"Insight: no offers yet for this view.","Insight: "&INDEX(O26:O31,MATCH(MAX(Y26:Y31),Y26:Y31,0))&" gave the most offers ("&MAX(Y26:Y31)&" from "&INDEX(W26:W31,MATCH(MAX(Y26:Y31),Y26:Y31,0))&IF(INDEX(W26:W31,MATCH(MAX(Y26:Y31),Y26:Y31,0))=1," application)."," applications).")) -> Insight: no offers yet for this view.

Sheet Applications
B1: JOB SEARCH WORKBOOK | U1: =St_Wishlist -> Wishlist
B2: Applications | J2: One row per job. Status colors update by themselves | O2: =TEXT(TODAY(),"ddd")&" · "&TEXT(TODAY(),"dd mmm yyyy") -> Tue · 06 Oct 2026 | U2: =St_Applied -> Applied
U3: =St_Interviewing -> Interviewing
U4: =St_Offer -> Offer
C5: ="All · "&COUNTIF(App_Company,"<>") -> All · 0 | D5: ="Applied · "&COUNTIF(App_Status,St_Applied) -> Applied · 0 | E5: ="Interviewing · "&COUNTIF(App_Status,St_Interviewing) -> Interviewing · 0 | G5: ="Offer · "&COUNTIF(App_Status,St_Offer) -> Offer · 0 | H5: ="Rejected · "&COUNTIF(App_Status,St_Rejected) -> Rejected · 0 | I5: ="Wishlist · "&COUNTIF(App_Status,St_Wishlist) -> Wishlist · 0 | J5: ="Withdrawn · "&COUNTIF(App_Status,St_Withdrawn) -> Withdrawn · 0 | M5: Type in the next empty row. Rows for 500 applications are ready. | U5: =St_Rejected -> Rejected
Q6: Month | R6: Year | S6: Follow key | U6: =St_Withdrawn -> Withdrawn
B7: # | C7: COMPANY | D7: ROLE | E7: SOURCE | F7: APPLIED ON | G7: STATUS | H7: FOLLOW UP ON | I7: FOLLOW-UP (auto) | J7: DAYS OPEN (auto) | K7: LOCATION | L7: WORK MODE | M7: SALARY RANGE | N7: CONTACT | O7: JOB LINK | P7: NOTES
B8: =IF(C8="","",ROW()-7) | I8: =IF(C8="","",IF(OR(H8="",NOT(OR(G8=St_Applied,G8=St_Interviewing))),"—",IF(H8<TODAY(),"Overdue · "&TEXT(H8,"dd mmm"),IF(H8=TODAY(),"Due today",IF(H8=TODAY()+1,"Tomorrow","In "&(H8-TODAY())&" days"))))) | J8: =IF(C8="","",IF(AND(F8<>"",OR(G8=St_Applied,G8=St_Interviewing)),TODAY()-F8,"—")) | Q8: =IF(F8="",0,MONTH(F8)) -> 0 | R8: =IF(F8="",0,YEAR(F8)) -> 0 | S8: =IF(AND(C8<>"",H8<>"",OR(G8=St_Applied,G8=St_Interviewing)),H8+ROW()/100000,"")
B9: =IF(C9="","",ROW()-7) | I9: =IF(C9="","",IF(OR(H9="",NOT(OR(G9=St_Applied,G9=St_Interviewing))),"—",IF(H9<TODAY(),"Overdue · "&TEXT(H9,"dd mmm"),IF(H9=TODAY(),"Due today",IF(H9=TODAY()+1,"Tomorrow","In "&(H9-TODAY())&" days"))))) | J9: =IF(C9="","",IF(AND(F9<>"",OR(G9=St_Applied,G9=St_Interviewing)),TODAY()-F9,"—")) | Q9: =IF(F9="",0,MONTH(F9)) -> 0 | R9: =IF(F9="",0,YEAR(F9)) -> 0 | S9: =IF(AND(C9<>"",H9<>"",OR(G9=St_Applied,G9=St_Interviewing)),H9+ROW()/100000,"")
B10: =IF(C10="","",ROW()-7) | I10: =IF(C10="","",IF(OR(H10="",NOT(OR(G10=St_Applied,G10=St_Interviewing))),"—",IF(H10<TODAY(),"Overdue · "&TEXT(H10,"dd mmm"),IF(H10=TODAY(),"Due today",IF(H10=TODAY()+1,"Tomorrow","In "&(H10-TODAY())&" days"))))) | J10: =IF(C10="","",IF(AND(F10<>"",OR(G10=St_Applied,G10=St_Interviewing)),TODAY()-F10,"—")) | Q10: =IF(F10="",0,MONTH(F10)) -> 0 | R10: =IF(F10="",0,YEAR(F10)) -> 0 | S10: =IF(AND(C10<>"",H10<>"",OR(G10=St_Applied,G10=St_Interviewing)),H10+ROW()/100000,"")
B11: =IF(C11="","",ROW()-7) | I11: =IF(C11="","",IF(OR(H11="",NOT(OR(G11=St_Applied,G11=St_Interviewing))),"—",IF(H11<TODAY(),"Overdue · "&TEXT(H11,"dd mmm"),IF(H11=TODAY(),"Due today",IF(H11=TODAY()+1,"Tomorrow","In "&(H11-TODAY())&" days"))))) | J11: =IF(C11="","",IF(AND(F11<>"",OR(G11=St_Applied,G11=St_Interviewing)),TODAY()-F11,"—")) | Q11: =IF(F11="",0,MONTH(F11)) -> 0 | R11: =IF(F11="",0,YEAR(F11)) -> 0 | S11: =IF(AND(C11<>"",H11<>"",OR(G11=St_Applied,G11=St_Interviewing)),H11+ROW()/100000,"")
B12: =IF(C12="","",ROW()-7) | I12: =IF(C12="","",IF(OR(H12="",NOT(OR(G12=St_Applied,G12=St_Interviewing))),"—",IF(H12<TODAY(),"Overdue · "&TEXT(H12,"dd mmm"),IF(H12=TODAY(),"Due today",IF(H12=TODAY()+1,"Tomorrow","In "&(H12-TODAY())&" days"))))) | J12: =IF(C12="","",IF(AND(F12<>"",OR(G12=St_Applied,G12=St_Interviewing)),TODAY()-F12,"—")) | Q12: =IF(F12="",0,MONTH(F12)) -> 0 | R12: =IF(F12="",0,YEAR(F12)) -> 0 | S12: =IF(AND(C12<>"",H12<>"",OR(G12=St_Applied,G12=St_Interviewing)),H12+ROW()/100000,"")
B13: =IF(C13="","",ROW()-7) | I13: =IF(C13="","",IF(OR(H13="",NOT(OR(G13=St_Applied,G13=St_Interviewing))),"—",IF(H13<TODAY(),"Overdue · "&TEXT(H13,"dd mmm"),IF(H13=TODAY(),"Due today",IF(H13=TODAY()+1,"Tomorrow","In "&(H13-TODAY())&" days"))))) | J13: =IF(C13="","",IF(AND(F13<>"",OR(G13=St_Applied,G13=St_Interviewing)),TODAY()-F13,"—")) | Q13: =IF(F13="",0,MONTH(F13)) -> 0 | R13: =IF(F13="",0,YEAR(F13)) -> 0 | S13: =IF(AND(C13<>"",H13<>"",OR(G13=St_Applied,G13=St_Interviewing)),H13+ROW()/100000,"")
B14: =IF(C14="","",ROW()-7) | I14: =IF(C14="","",IF(OR(H14="",NOT(OR(G14=St_Applied,G14=St_Interviewing))),"—",IF(H14<TODAY(),"Overdue · "&TEXT(H14,"dd mmm"),IF(H14=TODAY(),"Due today",IF(H14=TODAY()+1,"Tomorrow","In "&(H14-TODAY())&" days"))))) | J14: =IF(C14="","",IF(AND(F14<>"",OR(G14=St_Applied,G14=St_Interviewing)),TODAY()-F14,"—")) | Q14: =IF(F14="",0,MONTH(F14)) -> 0 | R14: =IF(F14="",0,YEAR(F14)) -> 0 | S14: =IF(AND(C14<>"",H14<>"",OR(G14=St_Applied,G14=St_Interviewing)),H14+ROW()/100000,"")
B15: =IF(C15="","",ROW()-7) | I15: =IF(C15="","",IF(OR(H15="",NOT(OR(G15=St_Applied,G15=St_Interviewing))),"—",IF(H15<TODAY(),"Overdue · "&TEXT(H15,"dd mmm"),IF(H15=TODAY(),"Due today",IF(H15=TODAY()+1,"Tomorrow","In "&(H15-TODAY())&" days"))))) | J15: =IF(C15="","",IF(AND(F15<>"",OR(G15=St_Applied,G15=St_Interviewing)),TODAY()-F15,"—")) | Q15: =IF(F15="",0,MONTH(F15)) -> 0 | R15: =IF(F15="",0,YEAR(F15)) -> 0 | S15: =IF(AND(C15<>"",H15<>"",OR(G15=St_Applied,G15=St_Interviewing)),H15+ROW()/100000,"")
B16: =IF(C16="","",ROW()-7) | I16: =IF(C16="","",IF(OR(H16="",NOT(OR(G16=St_Applied,G16=St_Interviewing))),"—",IF(H16<TODAY(),"Overdue · "&TEXT(H16,"dd mmm"),IF(H16=TODAY(),"Due today",IF(H16=TODAY()+1,"Tomorrow","In "&(H16-TODAY())&" days"))))) | J16: =IF(C16="","",IF(AND(F16<>"",OR(G16=St_Applied,G16=St_Interviewing)),TODAY()-F16,"—")) | Q16: =IF(F16="",0,MONTH(F16)) -> 0 | R16: =IF(F16="",0,YEAR(F16)) -> 0 | S16: =IF(AND(C16<>"",H16<>"",OR(G16=St_Applied,G16=St_Interviewing)),H16+ROW()/100000,"")
B17: =IF(C17="","",ROW()-7) | I17: =IF(C17="","",IF(OR(H17="",NOT(OR(G17=St_Applied,G17=St_Interviewing))),"—",IF(H17<TODAY(),"Overdue · "&TEXT(H17,"dd mmm"),IF(H17=TODAY(),"Due today",IF(H17=TODAY()+1,"Tomorrow","In "&(H17-TODAY())&" days"))))) | J17: =IF(C17="","",IF(AND(F17<>"",OR(G17=St_Applied,G17=St_Interviewing)),TODAY()-F17,"—")) | Q17: =IF(F17="",0,MONTH(F17)) -> 0 | R17: =IF(F17="",0,YEAR(F17)) -> 0 | S17: =IF(AND(C17<>"",H17<>"",OR(G17=St_Applied,G17=St_Interviewing)),H17+ROW()/100000,"")
B18: =IF(C18="","",ROW()-7) | I18: =IF(C18="","",IF(OR(H18="",NOT(OR(G18=St_Applied,G18=St_Interviewing))),"—",IF(H18<TODAY(),"Overdue · "&TEXT(H18,"dd mmm"),IF(H18=TODAY(),"Due today",IF(H18=TODAY()+1,"Tomorrow","In "&(H18-TODAY())&" days"))))) | J18: =IF(C18="","",IF(AND(F18<>"",OR(G18=St_Applied,G18=St_Interviewing)),TODAY()-F18,"—")) | Q18: =IF(F18="",0,MONTH(F18)) -> 0 | R18: =IF(F18="",0,YEAR(F18)) -> 0 | S18: =IF(AND(C18<>"",H18<>"",OR(G18=St_Applied,G18=St_Interviewing)),H18+ROW()/100000,"")
B19: =IF(C19="","",ROW()-7) | I19: =IF(C19="","",IF(OR(H19="",NOT(OR(G19=St_Applied,G19=St_Interviewing))),"—",IF(H19<TODAY(),"Overdue · "&TEXT(H19,"dd mmm"),IF(H19=TODAY(),"Due today",IF(H19=TODAY()+1,"Tomorrow","In "&(H19-TODAY())&" days"))))) | J19: =IF(C19="","",IF(AND(F19<>"",OR(G19=St_Applied,G19=St_Interviewing)),TODAY()-F19,"—")) | Q19: =IF(F19="",0,MONTH(F19)) -> 0 | R19: =IF(F19="",0,YEAR(F19)) -> 0 | S19: =IF(AND(C19<>"",H19<>"",OR(G19=St_Applied,G19=St_Interviewing)),H19+ROW()/100000,"")
... B507: =IF(C507="","",ROW()-7) | I507: =IF(C507="","",IF(OR(H507="",NOT(OR(G507=St_Applied,G507=St_Interviewing))),"—",IF(H507<TODAY(),"Overdue · "&TEXT(H507,"dd mmm"),IF(H507=TODAY(),"Due today",IF(H507=TODAY()+1,"Tomorrow","In "&(H507-TODAY())&" days"))))) | J507: =IF(C507="","",IF(AND(F507<>"",OR(G507=St_Applied,G507=St_Interviewing)),TODAY()-F507,"—")) | Q507: =IF(F507="",0,MONTH(F507)) -> 0 | R507: =IF(F507="",0,YEAR(F507)) -> 0 | S507: =IF(AND(C507<>"",H507<>"",OR(G507=St_Applied,G507=St_Interviewing)),H507+ROW()/100000,"")

Sheet Interviews
B1: JOB SEARCH WORKBOOK
B2: Interviews | G2: Every round, prep and result in one place | M2: =TEXT(TODAY(),"ddd")&" · "&TEXT(TODAY(),"dd mmm yyyy") -> Tue · 06 Oct 2026
B5: UPCOMING | C5: COMPLETED | D5: PASSED | L5: NEXT INTERVIEW
B6: =COUNT(Int_Key) -> 0 | C6: =COUNTIFS(Int_Company,"<>",Int_Result,"<>",Int_Result,"<>"&Lists!$E$2) -> 0 | D6: =COUNTIF(Int_Result,Lists!$E$3) -> 0 | L6: =IF($O$6="","No upcoming interview",INDEX(Int_Company,$O$6)) -> No upcoming interview | O6: =IFERROR(MATCH(SMALL(Int_Key,1),Int_Key,0),"")
L7: =IF($O$6="","Add a company and date in the table",INDEX(Int_Round,$O$6)&" · "&TEXT(INT(SMALL(Int_Key,1)),"ddd dd mmm")&IF(INDEX(Int_Time,$O$6)="",""," · "&TEXT(INDEX(Int_Time,$O$6),"h:mm AM/PM"))) -> Add a company and date in the table
B8: COMPANY | C8: ROUND | D8: DATE | E8: TIME | F8: MODE | G8: PREP | H8: RESULT | I8: INTERVIEWER | J8: NOTES / QUESTIONS | L8: PREP CHECKLIST
L9: ○ | M9: Research the company | O9: =IF(AND(B9<>"",D9<>"",D9>=TODAY(),OR(H9="",H9=Lists!$E$2)),INT(D9)+N(E9)+ROW()/10000000,"")
L10: ○ | M10: Re-read the job description | O10: =IF(AND(B10<>"",D10<>"",D10>=TODAY(),OR(H10="",H10=Lists!$E$2)),INT(D10)+N(E10)+ROW()/10000000,"")
L11: ○ | M11: Prepare 3 STAR stories | O11: =IF(AND(B11<>"",D11<>"",D11>=TODAY(),OR(H11="",H11=Lists!$E$2)),INT(D11)+N(E11)+ROW()/10000000,"")
L12: ○ | M12: List questions to ask | O12: =IF(AND(B12<>"",D12<>"",D12>=TODAY(),OR(H12="",H12=Lists!$E$2)),INT(D12)+N(E12)+ROW()/10000000,"")
L13: ○ | M13: Quiet spot, phone or laptop charged | O13: =IF(AND(B13<>"",D13<>"",D13>=TODAY(),OR(H13="",H13=Lists!$E$2)),INT(D13)+N(E13)+ROW()/10000000,"")
L14: Change the ticks with the dropdown, and reset them before each new interview. | O14: =IF(AND(B14<>"",D14<>"",D14>=TODAY(),OR(H14="",H14=Lists!$E$2)),INT(D14)+N(E14)+ROW()/10000000,"")
O15: =IF(AND(B15<>"",D15<>"",D15>=TODAY(),OR(H15="",H15=Lists!$E$2)),INT(D15)+N(E15)+ROW()/10000000,"")
L16: A past date in red means the result is still Pending. Update it. The Dashboard and the Calendar read from this sheet. | O16: =IF(AND(B16<>"",D16<>"",D16>=TODAY(),OR(H16="",H16=Lists!$E$2)),INT(D16)+N(E16)+ROW()/10000000,"")
O17: =IF(AND(B17<>"",D17<>"",D17>=TODAY(),OR(H17="",H17=Lists!$E$2)),INT(D17)+N(E17)+ROW()/10000000,"")
O18: =IF(AND(B18<>"",D18<>"",D18>=TODAY(),OR(H18="",H18=Lists!$E$2)),INT(D18)+N(E18)+ROW()/10000000,"")
O19: =IF(AND(B19<>"",D19<>"",D19>=TODAY(),OR(H19="",H19=Lists!$E$2)),INT(D19)+N(E19)+ROW()/10000000,"")
O20: =IF(AND(B20<>"",D20<>"",D20>=TODAY(),OR(H20="",H20=Lists!$E$2)),INT(D20)+N(E20)+ROW()/10000000,"")
O21: =IF(AND(B21<>"",D21<>"",D21>=TODAY(),OR(H21="",H21=Lists!$E$2)),INT(D21)+N(E21)+ROW()/10000000,"")
O22: =IF(AND(B22<>"",D22<>"",D22>=TODAY(),OR(H22="",H22=Lists!$E$2)),INT(D22)+N(E22)+ROW()/10000000,"")
O23: =IF(AND(B23<>"",D23<>"",D23>=TODAY(),OR(H23="",H23=Lists!$E$2)),INT(D23)+N(E23)+ROW()/10000000,"")
O24: =IF(AND(B24<>"",D24<>"",D24>=TODAY(),OR(H24="",H24=Lists!$E$2)),INT(D24)+N(E24)+ROW()/10000000,"")
O25: =IF(AND(B25<>"",D25<>"",D25>=TODAY(),OR(H25="",H25=Lists!$E$2)),INT(D25)+N(E25)+ROW()/10000000,"")
O26: =IF(AND(B26<>"",D26<>"",D26>=TODAY(),OR(H26="",H26=Lists!$E$2)),INT(D26)+N(E26)+ROW()/10000000,"")
O27: =IF(AND(B27<>"",D27<>"",D27>=TODAY(),OR(H27="",H27=Lists!$E$2)),INT(D27)+N(E27)+ROW()/10000000,"")
O28: =IF(AND(B28<>"",D28<>"",D28>=TODAY(),OR(H28="",H28=Lists!$E$2)),INT(D28)+N(E28)+ROW()/10000000,"")
... O508: =IF(AND(B508<>"",D508<>"",D508>=TODAY(),OR(H508="",H508=Lists!$E$2)),INT(D508)+N(E508)+ROW()/10000000,"")

Sheet Offers
B1: JOB SEARCH WORKBOOK
B2: Offers | C2: Compare offers against your target pay | F2: =TEXT(TODAY(),"ddd")&" · "&TEXT(TODAY(),"dd mmm yyyy") -> Tue · 06 Oct 2026
B5: TARGET SALARY | C5: BEST TOTAL PAY | D5: NEXT DEADLINE
B6: =IF(N(TargetSalary)=0,"Not set",TargetSalary) -> Not set | C6: =IF(COUNT(C18:F18)=0,"—",MAX(C18:F18)) -> — | D6: =IF(COUNT(C27:F27)=0,"—",MIN(C27:F27)) -> —
B7: =Currency&" per year (set on Start Here)" -> USD per year (set on Start Here) | C7: =IF(COUNT(C18:F18)=0,"Add an offer below",INDEX(C10:F10,MATCH(MAX(C18:F18),C18:F18,0))) -> Add an offer below | D7: =IF(COUNT(C27:F27)=0,"No open deadlines",INDEX(C10:F10,MATCH(MIN(C27:F27),C27:F27,0))&" · "&(MIN(C27:F27)-TODAY())&" days left") -> No open deadlines
C9: OFFER 1 | D9: OFFER 2 | E9: OFFER 3 | F9: OFFER 4
B10: Company
B11: Role
B12: Status
B13: Highlight | C13: =IF(C18="","",IF(AND(COUNT($C$18:$F$18)>1,C18=MAX($C$18:$F$18)),"★ Best total pay","")) | D13: =IF(D18="","",IF(AND(COUNT($C$18:$F$18)>1,D18=MAX($C$18:$F$18)),"★ Best total pay","")) | E13: =IF(E18="","",IF(AND(COUNT($C$18:$F$18)>1,E18=MAX($C$18:$F$18)),"★ Best total pay","")) | F13: =IF(F18="","",IF(AND(COUNT($C$18:$F$18)>1,F18=MAX($C$18:$F$18)),"★ Best total pay",""))
B14: Total pay against target | C14: =IF(C28="","",REPT("█",MIN(C28,18))&REPT("░",18-MIN(C28,18))&"┃"&REPT("█",MAX(0,MIN(C28,24)-19))&REPT("░",5-MAX(0,MIN(C28,24)-19))) | D14: =IF(D28="","",REPT("█",MIN(D28,18))&REPT("░",18-MIN(D28,18))&"┃"&REPT("█",MAX(0,MIN(D28,24)-19))&REPT("░",5-MAX(0,MIN(D28,24)-19))) | E14: =IF(E28="","",REPT("█",MIN(E28,18))&REPT("░",18-MIN(E28,18))&"┃"&REPT("█",MAX(0,MIN(E28,24)-19))&REPT("░",5-MAX(0,MIN(E28,24)-19))) | F14: =IF(F28="","",REPT("█",MIN(F28,18))&REPT("░",18-MIN(F28,18))&"┃"&REPT("█",MAX(0,MIN(F28,24)-19))&REPT("░",5-MAX(0,MIN(F28,24)-19)))
B15: ="Base salary ("&Currency&" per year)" -> Base salary (USD per year)
B16: Bonus (% of base)
B17: ="Bonus ("&Currency&")" -> Bonus (USD) | C17: =IF(C15="","",C15*IF(N(C16)>=1,N(C16)/100,N(C16))) | D17: =IF(D15="","",D15*IF(N(D16)>=1,N(D16)/100,N(D16))) | E17: =IF(E15="","",E15*IF(N(E16)>=1,N(E16)/100,N(E16))) | F17: =IF(F15="","",F15*IF(N(F16)>=1,N(F16)/100,N(F16)))
B18: ="Total pay ("&Currency&" per year)" -> Total pay (USD per year) | C18: =IF(C15="","",C15+C17) | D18: =IF(D15="","",D15+D17) | E18: =IF(E15="","",E15+E17) | F18: =IF(F15="","",F15+F17)
B19: Versus your target | C19: =IF(OR(C18="",$B$26=0),"",C18-$B$26) | D19: =IF(OR(D18="",$B$26=0),"",D18-$B$26) | E19: =IF(OR(E18="",$B$26=0),"",E18-$B$26) | F19: =IF(OR(F18="",$B$26=0),"",F18-$B$26)
B20: Work mode
B21: Paid leave (days)
B22: Offer deadline
B23: Time left | C23: =IF(C22="","",IF(C22<TODAY(),"Expired",(C22-TODAY())&" days")) | D23: =IF(D22="","",IF(D22<TODAY(),"Expired",(D22-TODAY())&" days")) | E23: =IF(E22="","",IF(E22<TODAY(),"Expired",(E22-TODAY())&" days")) | F23: =IF(F22="","",IF(F22<TODAY(),"Expired",(F22-TODAY())&" days"))
B24: Notes
B26: =N(TargetSalary) -> 0
B27: Deadline key | C27: =IF(AND(C10<>"",C22<>"",C22>=TODAY(),C12<>"Accepted",C12<>"Declined"),INT(C22),"") | D27: =IF(AND(D10<>"",D22<>"",D22>=TODAY(),D12<>"Accepted",D12<>"Declined"),INT(D22),"") | E27: =IF(AND(E10<>"",E22<>"",E22>=TODAY(),E12<>"Accepted",E12<>"Declined"),INT(E22),"") | F27: =IF(AND(F10<>"",F22<>"",F22>=TODAY(),F12<>"Accepted",F12<>"Declined"),INT(F22),"")
B28: Bar units | C28: =IF(OR(C18="",$B$26=0),"",ROUND(MIN(1,C18/($B$26*1.25))*24,0)) | D28: =IF(OR(D18="",$B$26=0),"",ROUND(MIN(1,D18/($B$26*1.25))*24,0)) | E28: =IF(OR(E18="",$B$26=0),"",ROUND(MIN(1,E18/($B$26*1.25))*24,0)) | F28: =IF(OR(F18="",$B$26=0),"",ROUND(MIN(1,F18/($B$26*1.25))*24,0))
B30: Type your offers in the cream cells. The bar compares total pay with your target; the line marks the target.

Sheet Calendar
B1: JOB SEARCH WORKBOOK
B2: Calendar | E2: Interviews, follow-ups and deadlines, color-coded | K2: =TEXT(TODAY(),"ddd")&" · "&TEXT(TODAY(),"dd mmm yyyy") -> Tue · 06 Oct 2026 | M2: =IF(F5="Current month",MONTH(TODAY()),IFERROR(MATCH(F5,Lists!$A$2:$A$13,0),MONTH(TODAY()))) -> 10
M3: =IFERROR(IF(AND(VALUE(H5&"")>=1900,VALUE(H5&"")<=9999),INT(VALUE(H5&"")),YEAR(TODAY())),YEAR(TODAY())) -> 2026
M4: =DATE(M3,M2,1) -> 46296
B5: =M6 -> October 2026 | E5: Month | F5: Current month | G5: Year | H5: Current year | M5: =M4-WEEKDAY(M4,2)+1 -> 46293
B6: Pick any month and year, past or future. Type a year like 2031 in the Year cell, or choose Current year. | M6: =INDEX(Lists!$A$2:$A$13,M2)&" "&M3 -> October 2026
B8: MON | C8: TUE | D8: WED | E8: THU | F8: FRI | G8: SAT | H8: SUN | J8: NEXT 7 DAYS
B9: =$M$5+0 -> 46293 | C9: =$M$5+1 -> 46294 | D9: =$M$5+2 -> 46295 | E9: =$M$5+3 -> 46296 | F9: =$M$5+4 -> 46297 | G9: =$M$5+5 -> 46298 | H9: =$M$5+6 -> 46299 | J9: =IF(M9="","",TEXT(INT(M9),"ddd dd")) | K9: =IF(M9="",IF(COUNT($M$9:$M$20)=0,"Nothing scheduled in the next 7 days",""),INDEX(CalLabels,MATCH(M9,CalKeys,0))) -> Nothing scheduled in the next 7 days | M9: =IFERROR(IF(SMALL(CalKeys,COUNTIF(CalKeys,"<"&TODAY())+1)<TODAY()+7,SMALL(CalKeys,COUNTIF(CalKeys,"<"&TODAY())+1),""),"")
B10: =IFERROR(IF(SMALL(CalKeys,COUNTIF(CalKeys,"<"&B$9)+1)<B$9+1,INDEX(CalShort,MATCH(SMALL(CalKeys,COUNTIF(CalKeys,"<"&B$9)+1),CalKeys,0)),""),"") | C10: =IFERROR(IF(SMALL(CalKeys,COUNTIF(CalKeys,"<"&C$9)+1)<C$9+1,INDEX(CalShort,MATCH(SMALL(CalKeys,COUNTIF(CalKeys,"<"&C$9)+1),CalKeys,0)),""),"") | D10: =IFERROR(IF(SMALL(CalKeys,COUNTIF(CalKeys,"<"&D$9)+1)<D$9+1,INDEX(CalShort,MATCH(SMALL(CalKeys,COUNTIF(CalKeys,"<"&D$9)+1),CalKeys,0)),""),"") | E10: =IFERROR(IF(SMALL(CalKeys,COUNTIF(CalKeys,"<"&E$9)+1)<E$9+1,INDEX(CalShort,MATCH(SMALL(CalKeys,COUNTIF(CalKeys,"<"&E$9)+1),CalKeys,0)),""),"") | F10: =IFERROR(IF(SMALL(CalKeys,COUNTIF(CalKeys,"<"&F$9)+1)<F$9+1,INDEX(CalShort,MATCH(SMALL(CalKeys,COUNTIF(CalKeys,"<"&F$9)+1),CalKeys,0)),""),"") | G10: =IFERROR(IF(SMALL(CalKeys,COUNTIF(CalKeys,"<"&G$9)+1)<G$9+1,INDEX(CalShort,MATCH(SMALL(CalKeys,COUNTIF(CalKeys,"<"&G$9)+1),CalKeys,0)),""),"") | H10: =IFERROR(IF(SMALL(CalKeys,COUNTIF(CalKeys,"<"&H$9)+1)<H$9+1,INDEX(CalShort,MATCH(SMALL(CalKeys,COUNTIF(CalKeys,"<"&H$9)+1),CalKeys,0)),""),"") | J10: =IF(M10="","",TEXT(INT(M10),"ddd dd")) | K10: =IF(M10="","",INDEX(CalLabels,MATCH(M10,CalKeys,0))) | M10: =IFERROR(IF(SMALL(CalKeys,COUNTIF(CalKeys,"<"&TODAY())+2)<TODAY()+7,SMALL(CalKeys,COUNTIF(CalKeys,"<"&TODAY())+2),""),"")
B11: =IFERROR(IF(SMALL(CalKeys,COUNTIF(CalKeys,"<"&B$9)+2)<B$9+1,INDEX(CalShort,MATCH(SMALL(CalKeys,COUNTIF(CalKeys,"<"&B$9)+2),CalKeys,0)),""),"") | C11: =IFERROR(IF(SMALL(CalKeys,COUNTIF(CalKeys,"<"&C$9)+2)<C$9+1,INDEX(CalShort,MATCH(SMALL(CalKeys,COUNTIF(CalKeys,"<"&C$9)+2),CalKeys,0)),""),"") | D11: =IFERROR(IF(SMALL(CalKeys,COUNTIF(CalKeys,"<"&D$9)+2)<D$9+1,INDEX(CalShort,MATCH(SMALL(CalKeys,COUNTIF(CalKeys,"<"&D$9)+2),CalKeys,0)),""),"") | E11: =IFERROR(IF(SMALL(CalKeys,COUNTIF(CalKeys,"<"&E$9)+2)<E$9+1,INDEX(CalShort,MATCH(SMALL(CalKeys,COUNTIF(CalKeys,"<"&E$9)+2),CalKeys,0)),""),"") | F11: =IFERROR(IF(SMALL(CalKeys,COUNTIF(CalKeys,"<"&F$9)+2)<F$9+1,INDEX(CalShort,MATCH(SMALL(CalKeys,COUNTIF(CalKeys,"<"&F$9)+2),CalKeys,0)),""),"") | G11: =IFERROR(IF(SMALL(CalKeys,COUNTIF(CalKeys,"<"&G$9)+2)<G$9+1,INDEX(CalShort,MATCH(SMALL(CalKeys,COUNTIF(CalKeys,"<"&G$9)+2),CalKeys,0)),""),"") | H11: =IFERROR(IF(SMALL(CalKeys,COUNTIF(CalKeys,"<"&H$9)+2)<H$9+1,INDEX(CalShort,MATCH(SMALL(CalKeys,COUNTIF(CalKeys,"<"&H$9)+2),CalKeys,0)),""),"") | J11: =IF(M11="","",TEXT(INT(M11),"ddd dd")) | K11: =IF(M11="","",INDEX(CalLabels,MATCH(M11,CalKeys,0))) | M11: =IFERROR(IF(SMALL(CalKeys,COUNTIF(CalKeys,"<"&TODAY())+3)<TODAY()+7,SMALL(CalKeys,COUNTIF(CalKeys,"<"&TODAY())+3),""),"")
B12: =IFERROR(IF((COUNTIF(CalKeys,">="&B$9)-COUNTIF(CalKeys,">="&(B$9+1)))>3,"+"&((COUNTIF(CalKeys,">="&B$9)-COUNTIF(CalKeys,">="&(B$9+1)))-2)&" more",IF(SMALL(CalKeys,COUNTIF(CalKeys,"<"&B$9)+3)<B$9+1,INDEX(CalShort,MATCH(SMALL(CalKeys,COUNTIF(CalKeys,"<"&B$9)+3),CalKeys,0)),"")),"") | C12: =IFERROR(IF((COUNTIF(CalKeys,">="&C$9)-COUNTIF(CalKeys,">="&(C$9+1)))>3,"+"&((COUNTIF(CalKeys,">="&C$9)-COUNTIF(CalKeys,">="&(C$9+1)))-2)&" more",IF(SMALL(CalKeys,COUNTIF(CalKeys,"<"&C$9)+3)<C$9+1,INDEX(CalShort,MATCH(SMALL(CalKeys,COUNTIF(CalKeys,"<"&C$9)+3),CalKeys,0)),"")),"") | D12: =IFERROR(IF((COUNTIF(CalKeys,">="&D$9)-COUNTIF(CalKeys,">="&(D$9+1)))>3,"+"&((COUNTIF(CalKeys,">="&D$9)-COUNTIF(CalKeys,">="&(D$9+1)))-2)&" more",IF(SMALL(CalKeys,COUNTIF(CalKeys,"<"&D$9)+3)<D$9+1,INDEX(CalShort,MATCH(SMALL(CalKeys,COUNTIF(CalKeys,"<"&D$9)+3),CalKeys,0)),"")),"") | E12: =IFERROR(IF((COUNTIF(CalKeys,">="&E$9)-COUNTIF(CalKeys,">="&(E$9+1)))>3,"+"&((COUNTIF(CalKeys,">="&E$9)-COUNTIF(CalKeys,">="&(E$9+1)))-2)&" more",IF(SMALL(CalKeys,COUNTIF(CalKeys,"<"&E$9)+3)<E$9+1,INDEX(CalShort,MATCH(SMALL(CalKeys,COUNTIF(CalKeys,"<"&E$9)+3),CalKeys,0)),"")),"") | F12: =IFERROR(IF((COUNTIF(CalKeys,">="&F$9)-COUNTIF(CalKeys,">="&(F$9+1)))>3,"+"&((COUNTIF(CalKeys,">="&F$9)-COUNTIF(CalKeys,">="&(F$9+1)))-2)&" more",IF(SMALL(CalKeys,COUNTIF(CalKeys,"<"&F$9)+3)<F$9+1,INDEX(CalShort,MATCH(SMALL(CalKeys,COUNTIF(CalKeys,"<"&F$9)+3),CalKeys,0)),"")),"") | G12: =IFERROR(IF((COUNTIF(CalKeys,">="&G$9)-COUNTIF(CalKeys,">="&(G$9+1)))>3,"+"&((COUNTIF(CalKeys,">="&G$9)-COUNTIF(CalKeys,">="&(G$9+1)))-2)&" more",IF(SMALL(CalKeys,COUNTIF(CalKeys,"<"&G$9)+3)<G$9+1,INDEX(CalShort,MATCH(SMALL(CalKeys,COUNTIF(CalKeys,"<"&G$9)+3),CalKeys,0)),"")),"") | H12: =IFERROR(IF((COUNTIF(CalKeys,">="&H$9)-COUNTIF(CalKeys,">="&(H$9+1)))>3,"+"&((COUNTIF(CalKeys,">="&H$9)-COUNTIF(CalKeys,">="&(H$9+1)))-2)&" more",IF(SMALL(CalKeys,COUNTIF(CalKeys,"<"&H$9)+3)<H$9+1,INDEX(CalShort,MATCH(SMALL(CalKeys,COUNTIF(CalKeys,"<"&H$9)+3),CalKeys,0)),"")),"") | J12: =IF(M12="","",TEXT(INT(M12),"ddd dd")) | K12: =IF(M12="","",INDEX(CalLabels,MATCH(M12,CalKeys,0))) | M12: =IFERROR(IF(SMALL(CalKeys,COUNTIF(CalKeys,"<"&TODAY())+4)<TODAY()+7,SMALL(CalKeys,COUNTIF(CalKeys,"<"&TODAY())+4),""),"")
B13: =$M$5+7 -> 46300 | C13: =$M$5+8 -> 46301 | D13: =$M$5+9 -> 46302 | E13: =$M$5+10 -> 46303 | F13: =$M$5+11 -> 46304 | G13: =$M$5+12 -> 46305 | H13: =$M$5+13 -> 46306 | J13: =IF(M13="","",TEXT(INT(M13),"ddd dd")) | K13: =IF(M13="","",INDEX(CalLabels,MATCH(M13,CalKeys,0))) | M13: =IFERROR(IF(SMALL(CalKeys,COUNTIF(CalKeys,"<"&TODAY())+5)<TODAY()+7,SMALL(CalKeys,COUNTIF(CalKeys,"<"&TODAY())+5),""),"")
B14: =IFERROR(IF(SMALL(CalKeys,COUNTIF(CalKeys,"<"&B$13)+1)<B$13+1,INDEX(CalShort,MATCH(SMALL(CalKeys,COUNTIF(CalKeys,"<"&B$13)+1),CalKeys,0)),""),"") | C14: =IFERROR(IF(SMALL(CalKeys,COUNTIF(CalKeys,"<"&C$13)+1)<C$13+1,INDEX(CalShort,MATCH(SMALL(CalKeys,COUNTIF(CalKeys,"<"&C$13)+1),CalKeys,0)),""),"") | D14: =IFERROR(IF(SMALL(CalKeys,COUNTIF(CalKeys,"<"&D$13)+1)<D$13+1,INDEX(CalShort,MATCH(SMALL(CalKeys,COUNTIF(CalKeys,"<"&D$13)+1),CalKeys,0)),""),"") | E14: =IFERROR(IF(SMALL(CalKeys,COUNTIF(CalKeys,"<"&E$13)+1)<E$13+1,INDEX(CalShort,MATCH(SMALL(CalKeys,COUNTIF(CalKeys,"<"&E$13)+1),CalKeys,0)),""),"") | F14: =IFERROR(IF(SMALL(CalKeys,COUNTIF(CalKeys,"<"&F$13)+1)<F$13+1,INDEX(CalShort,MATCH(SMALL(CalKeys,COUNTIF(CalKeys,"<"&F$13)+1),CalKeys,0)),""),"") | G14: =IFERROR(IF(SMALL(CalKeys,COUNTIF(CalKeys,"<"&G$13)+1)<G$13+1,INDEX(CalShort,MATCH(SMALL(CalKeys,COUNTIF(CalKeys,"<"&G$13)+1),CalKeys,0)),""),"") | H14: =IFERROR(IF(SMALL(CalKeys,COUNTIF(CalKeys,"<"&H$13)+1)<H$13+1,INDEX(CalShort,MATCH(SMALL(CalKeys,COUNTIF(CalKeys,"<"&H$13)+1),CalKeys,0)),""),"") | J14: =IF(M14="","",TEXT(INT(M14),"ddd dd")) | K14: =IF(M14="","",INDEX(CalLabels,MATCH(M14,CalKeys,0))) | M14: =IFERROR(IF(SMALL(CalKeys,COUNTIF(CalKeys,"<"&TODAY())+6)<TODAY()+7,SMALL(CalKeys,COUNTIF(CalKeys,"<"&TODAY())+6),""),"")
B15: =IFERROR(IF(SMALL(CalKeys,COUNTIF(CalKeys,"<"&B$13)+2)<B$13+1,INDEX(CalShort,MATCH(SMALL(CalKeys,COUNTIF(CalKeys,"<"&B$13)+2),CalKeys,0)),""),"") | C15: =IFERROR(IF(SMALL(CalKeys,COUNTIF(CalKeys,"<"&C$13)+2)<C$13+1,INDEX(CalShort,MATCH(SMALL(CalKeys,COUNTIF(CalKeys,"<"&C$13)+2),CalKeys,0)),""),"") | D15: =IFERROR(IF(SMALL(CalKeys,COUNTIF(CalKeys,"<"&D$13)+2)<D$13+1,INDEX(CalShort,MATCH(SMALL(CalKeys,COUNTIF(CalKeys,"<"&D$13)+2),CalKeys,0)),""),"") | E15: =IFERROR(IF(SMALL(CalKeys,COUNTIF(CalKeys,"<"&E$13)+2)<E$13+1,INDEX(CalShort,MATCH(SMALL(CalKeys,COUNTIF(CalKeys,"<"&E$13)+2),CalKeys,0)),""),"") | F15: =IFERROR(IF(SMALL(CalKeys,COUNTIF(CalKeys,"<"&F$13)+2)<F$13+1,INDEX(CalShort,MATCH(SMALL(CalKeys,COUNTIF(CalKeys,"<"&F$13)+2),CalKeys,0)),""),"") | G15: =IFERROR(IF(SMALL(CalKeys,COUNTIF(CalKeys,"<"&G$13)+2)<G$13+1,INDEX(CalShort,MATCH(SMALL(CalKeys,COUNTIF(CalKeys,"<"&G$13)+2),CalKeys,0)),""),"") | H15: =IFERROR(IF(SMALL(CalKeys,COUNTIF(CalKeys,"<"&H$13)+2)<H$13+1,INDEX(CalShort,MATCH(SMALL(CalKeys,COUNTIF(CalKeys,"<"&H$13)+2),CalKeys,0)),""),"") | J15: =IF(M15="","",TEXT(INT(M15),"ddd dd")) | K15: =IF(M15="","",INDEX(CalLabels,MATCH(M15,CalKeys,0))) | M15: =IFERROR(IF(SMALL(CalKeys,COUNTIF(CalKeys,"<"&TODAY())+7)<TODAY()+7,SMALL(CalKeys,COUNTIF(CalKeys,"<"&TODAY())+7),""),"")
B16: =IFERROR(IF((COUNTIF(CalKeys,">="&B$13)-COUNTIF(CalKeys,">="&(B$13+1)))>3,"+"&((COUNTIF(CalKeys,">="&B$13)-COUNTIF(CalKeys,">="&(B$13+1)))-2)&" more",IF(SMALL(CalKeys,COUNTIF(CalKeys,"<"&B$13)+3)<B$13+1,INDEX(CalShort,MATCH(SMALL(CalKeys,COUNTIF(CalKeys,"<"&B$13)+3),CalKeys,0)),"")),"") | C16: =IFERROR(IF((COUNTIF(CalKeys,">="&C$13)-COUNTIF(CalKeys,">="&(C$13+1)))>3,"+"&((COUNTIF(CalKeys,">="&C$13)-COUNTIF(CalKeys,">="&(C$13+1)))-2)&" more",IF(SMALL(CalKeys,COUNTIF(CalKeys,"<"&C$13)+3)<C$13+1,INDEX(CalShort,MATCH(SMALL(CalKeys,COUNTIF(CalKeys,"<"&C$13)+3),CalKeys,0)),"")),"") | D16: =IFERROR(IF((COUNTIF(CalKeys,">="&D$13)-COUNTIF(CalKeys,">="&(D$13+1)))>3,"+"&((COUNTIF(CalKeys,">="&D$13)-COUNTIF(CalKeys,">="&(D$13+1)))-2)&" more",IF(SMALL(CalKeys,COUNTIF(CalKeys,"<"&D$13)+3)<D$13+1,INDEX(CalShort,MATCH(SMALL(CalKeys,COUNTIF(CalKeys,"<"&D$13)+3),CalKeys,0)),"")),"") | E16: =IFERROR(IF((COUNTIF(CalKeys,">="&E$13)-COUNTIF(CalKeys,">="&(E$13+1)))>3,"+"&((COUNTIF(CalKeys,">="&E$13)-COUNTIF(CalKeys,">="&(E$13+1)))-2)&" more",IF(SMALL(CalKeys,COUNTIF(CalKeys,"<"&E$13)+3)<E$13+1,INDEX(CalShort,MATCH(SMALL(CalKeys,COUNTIF(CalKeys,"<"&E$13)+3),CalKeys,0)),"")),"") | F16: =IFERROR(IF((COUNTIF(CalKeys,">="&F$13)-COUNTIF(CalKeys,">="&(F$13+1)))>3,"+"&((COUNTIF(CalKeys,">="&F$13)-COUNTIF(CalKeys,">="&(F$13+1)))-2)&" more",IF(SMALL(CalKeys,COUNTIF(CalKeys,"<"&F$13)+3)<F$13+1,INDEX(CalShort,MATCH(SMALL(CalKeys,COUNTIF(CalKeys,"<"&F$13)+3),CalKeys,0)),"")),"") | G16: =IFERROR(IF((COUNTIF(CalKeys,">="&G$13)-COUNTIF(CalKeys,">="&(G$13+1)))>3,"+"&((COUNTIF(CalKeys,">="&G$13)-COUNTIF(CalKeys,">="&(G$13+1)))-2)&" more",IF(SMALL(CalKeys,COUNTIF(CalKeys,"<"&G$13)+3)<G$13+1,INDEX(CalShort,MATCH(SMALL(CalKeys,COUNTIF(CalKeys,"<"&G$13)+3),CalKeys,0)),"")),"") | H16: =IFERROR(IF((COUNTIF(CalKeys,">="&H$13)-COUNTIF(CalKeys,">="&(H$13+1)))>3,"+"&((COUNTIF(CalKeys,">="&H$13)-COUNTIF(CalKeys,">="&(H$13+1)))-2)&" more",IF(SMALL(CalKeys,COUNTIF(CalKeys,"<"&H$13)+3)<H$13+1,INDEX(CalShort,MATCH(SMALL(CalKeys,COUNTIF(CalKeys,"<"&H$13)+3),CalKeys,0)),"")),"") | J16: =IF(M16="","",TEXT(INT(M16),"ddd dd")) | K16: =IF(M16="","",INDEX(CalLabels,MATCH(M16,CalKeys,0))) | M16: =IFERROR(IF(SMALL(CalKeys,COUNTIF(CalKeys,"<"&TODAY())+8)<TODAY()+7,SMALL(CalKeys,COUNTIF(CalKeys,"<"&TODAY())+8),""),"")
B17: =$M$5+14 -> 46307 | C17: =$M$5+15 -> 46308 | D17: =$M$5+16 -> 46309 | E17: =$M$5+17 -> 46310 | F17: =$M$5+18 -> 46311 | G17: =$M$5+19 -> 46312 | H17: =$M$5+20 -> 46313 | J17: =IF(M17="","",TEXT(INT(M17),"ddd dd")) | K17: =IF(M17="","",INDEX(CalLabels,MATCH(M17,CalKeys,0))) | M17: =IFERROR(IF(SMALL(CalKeys,COUNTIF(CalKeys,"<"&TODAY())+9)<TODAY()+7,SMALL(CalKeys,COUNTIF(CalKeys,"<"&TODAY())+9),""),"")
B18: =IFERROR(IF(SMALL(CalKeys,COUNTIF(CalKeys,"<"&B$17)+1)<B$17+1,INDEX(CalShort,MATCH(SMALL(CalKeys,COUNTIF(CalKeys,"<"&B$17)+1),CalKeys,0)),""),"") | C18: =IFERROR(IF(SMALL(CalKeys,COUNTIF(CalKeys,"<"&C$17)+1)<C$17+1,INDEX(CalShort,MATCH(SMALL(CalKeys,COUNTIF(CalKeys,"<"&C$17)+1),CalKeys,0)),""),"") | D18: =IFERROR(IF(SMALL(CalKeys,COUNTIF(CalKeys,"<"&D$17)+1)<D$17+1,INDEX(CalShort,MATCH(SMALL(CalKeys,COUNTIF(CalKeys,"<"&D$17)+1),CalKeys,0)),""),"") | E18: =IFERROR(IF(SMALL(CalKeys,COUNTIF(CalKeys,"<"&E$17)+1)<E$17+1,INDEX(CalShort,MATCH(SMALL(CalKeys,COUNTIF(CalKeys,"<"&E$17)+1),CalKeys,0)),""),"") | F18: =IFERROR(IF(SMALL(CalKeys,COUNTIF(CalKeys,"<"&F$17)+1)<F$17+1,INDEX(CalShort,MATCH(SMALL(CalKeys,COUNTIF(CalKeys,"<"&F$17)+1),CalKeys,0)),""),"") | G18: =IFERROR(IF(SMALL(CalKeys,COUNTIF(CalKeys,"<"&G$17)+1)<G$17+1,INDEX(CalShort,MATCH(SMALL(CalKeys,COUNTIF(CalKeys,"<"&G$17)+1),CalKeys,0)),""),"") | H18: =IFERROR(IF(SMALL(CalKeys,COUNTIF(CalKeys,"<"&H$17)+1)<H$17+1,INDEX(CalShort,MATCH(SMALL(CalKeys,COUNTIF(CalKeys,"<"&H$17)+1),CalKeys,0)),""),"") | J18: =IF(M18="","",TEXT(INT(M18),"ddd dd")) | K18: =IF(M18="","",INDEX(CalLabels,MATCH(M18,CalKeys,0))) | M18: =IFERROR(IF(SMALL(CalKeys,COUNTIF(CalKeys,"<"&TODAY())+10)<TODAY()+7,SMALL(CalKeys,COUNTIF(CalKeys,"<"&TODAY())+10),""),"")
B19: =IFERROR(IF(SMALL(CalKeys,COUNTIF(CalKeys,"<"&B$17)+2)<B$17+1,INDEX(CalShort,MATCH(SMALL(CalKeys,COUNTIF(CalKeys,"<"&B$17)+2),CalKeys,0)),""),"") | C19: =IFERROR(IF(SMALL(CalKeys,COUNTIF(CalKeys,"<"&C$17)+2)<C$17+1,INDEX(CalShort,MATCH(SMALL(CalKeys,COUNTIF(CalKeys,"<"&C$17)+2),CalKeys,0)),""),"") | D19: =IFERROR(IF(SMALL(CalKeys,COUNTIF(CalKeys,"<"&D$17)+2)<D$17+1,INDEX(CalShort,MATCH(SMALL(CalKeys,COUNTIF(CalKeys,"<"&D$17)+2),CalKeys,0)),""),"") | E19: =IFERROR(IF(SMALL(CalKeys,COUNTIF(CalKeys,"<"&E$17)+2)<E$17+1,INDEX(CalShort,MATCH(SMALL(CalKeys,COUNTIF(CalKeys,"<"&E$17)+2),CalKeys,0)),""),"") | F19: =IFERROR(IF(SMALL(CalKeys,COUNTIF(CalKeys,"<"&F$17)+2)<F$17+1,INDEX(CalShort,MATCH(SMALL(CalKeys,COUNTIF(CalKeys,"<"&F$17)+2),CalKeys,0)),""),"") | G19: =IFERROR(IF(SMALL(CalKeys,COUNTIF(CalKeys,"<"&G$17)+2)<G$17+1,INDEX(CalShort,MATCH(SMALL(CalKeys,COUNTIF(CalKeys,"<"&G$17)+2),CalKeys,0)),""),"") | H19: =IFERROR(IF(SMALL(CalKeys,COUNTIF(CalKeys,"<"&H$17)+2)<H$17+1,INDEX(CalShort,MATCH(SMALL(CalKeys,COUNTIF(CalKeys,"<"&H$17)+2),CalKeys,0)),""),"") | J19: =IF(M19="","",TEXT(INT(M19),"ddd dd")) | K19: =IF(M19="","",INDEX(CalLabels,MATCH(M19,CalKeys,0))) | M19: =IFERROR(IF(SMALL(CalKeys,COUNTIF(CalKeys,"<"&TODAY())+11)<TODAY()+7,SMALL(CalKeys,COUNTIF(CalKeys,"<"&TODAY())+11),""),"")
B20: =IFERROR(IF((COUNTIF(CalKeys,">="&B$17)-COUNTIF(CalKeys,">="&(B$17+1)))>3,"+"&((COUNTIF(CalKeys,">="&B$17)-COUNTIF(CalKeys,">="&(B$17+1)))-2)&" more",IF(SMALL(CalKeys,COUNTIF(CalKeys,"<"&B$17)+3)<B$17+1,INDEX(CalShort,MATCH(SMALL(CalKeys,COUNTIF(CalKeys,"<"&B$17)+3),CalKeys,0)),"")),"") | C20: =IFERROR(IF((COUNTIF(CalKeys,">="&C$17)-COUNTIF(CalKeys,">="&(C$17+1)))>3,"+"&((COUNTIF(CalKeys,">="&C$17)-COUNTIF(CalKeys,">="&(C$17+1)))-2)&" more",IF(SMALL(CalKeys,COUNTIF(CalKeys,"<"&C$17)+3)<C$17+1,INDEX(CalShort,MATCH(SMALL(CalKeys,COUNTIF(CalKeys,"<"&C$17)+3),CalKeys,0)),"")),"") | D20: =IFERROR(IF((COUNTIF(CalKeys,">="&D$17)-COUNTIF(CalKeys,">="&(D$17+1)))>3,"+"&((COUNTIF(CalKeys,">="&D$17)-COUNTIF(CalKeys,">="&(D$17+1)))-2)&" more",IF(SMALL(CalKeys,COUNTIF(CalKeys,"<"&D$17)+3)<D$17+1,INDEX(CalShort,MATCH(SMALL(CalKeys,COUNTIF(CalKeys,"<"&D$17)+3),CalKeys,0)),"")),"") | E20: =IFERROR(IF((COUNTIF(CalKeys,">="&E$17)-COUNTIF(CalKeys,">="&(E$17+1)))>3,"+"&((COUNTIF(CalKeys,">="&E$17)-COUNTIF(CalKeys,">="&(E$17+1)))-2)&" more",IF(SMALL(CalKeys,COUNTIF(CalKeys,"<"&E$17)+3)<E$17+1,INDEX(CalShort,MATCH(SMALL(CalKeys,COUNTIF(CalKeys,"<"&E$17)+3),CalKeys,0)),"")),"") | F20: =IFERROR(IF((COUNTIF(CalKeys,">="&F$17)-COUNTIF(CalKeys,">="&(F$17+1)))>3,"+"&((COUNTIF(CalKeys,">="&F$17)-COUNTIF(CalKeys,">="&(F$17+1)))-2)&" more",IF(SMALL(CalKeys,COUNTIF(CalKeys,"<"&F$17)+3)<F$17+1,INDEX(CalShort,MATCH(SMALL(CalKeys,COUNTIF(CalKeys,"<"&F$17)+3),CalKeys,0)),"")),"") | G20: =IFERROR(IF((COUNTIF(CalKeys,">="&G$17)-COUNTIF(CalKeys,">="&(G$17+1)))>3,"+"&((COUNTIF(CalKeys,">="&G$17)-COUNTIF(CalKeys,">="&(G$17+1)))-2)&" more",IF(SMALL(CalKeys,COUNTIF(CalKeys,"<"&G$17)+3)<G$17+1,INDEX(CalShort,MATCH(SMALL(CalKeys,COUNTIF(CalKeys,"<"&G$17)+3),CalKeys,0)),"")),"") | H20: =IFERROR(IF((COUNTIF(CalKeys,">="&H$17)-COUNTIF(CalKeys,">="&(H$17+1)))>3,"+"&((COUNTIF(CalKeys,">="&H$17)-COUNTIF(CalKeys,">="&(H$17+1)))-2)&" more",IF(SMALL(CalKeys,COUNTIF(CalKeys,"<"&H$17)+3)<H$17+1,INDEX(CalShort,MATCH(SMALL(CalKeys,COUNTIF(CalKeys,"<"&H$17)+3),CalKeys,0)),"")),"") | J20: =IF(M20="","",TEXT(INT(M20),"ddd dd")) | K20: =IF(M20="","",INDEX(CalLabels,MATCH(M20,CalKeys,0))) | M20: =IFERROR(IF(SMALL(CalKeys,COUNTIF(CalKeys,"<"&TODAY())+12)<TODAY()+7,SMALL(CalKeys,COUNTIF(CalKeys,"<"&TODAY())+12),""),"")
B21: =$M$5+21 -> 46314 | C21: =$M$5+22 -> 46315 | D21: =$M$5+23 -> 46316 | E21: =$M$5+24 -> 46317 | F21: =$M$5+25 -> 46318 | G21: =$M$5+26 -> 46319 | H21: =$M$5+27 -> 46320 | J21: =IF((COUNTIF(CalKeys,">="&TODAY())-COUNTIF(CalKeys,">="&(TODAY()+7)))>12,"+"&(COUNTIF(CalKeys,">="&TODAY())-COUNTIF(CalKeys,">="&(TODAY()+7))-12)&" more in the next 7 days","")
B22: =IFERROR(IF(SMALL(CalKeys,COUNTIF(CalKeys,"<"&B$21)+1)<B$21+1,INDEX(CalShort,MATCH(SMALL(CalKeys,COUNTIF(CalKeys,"<"&B$21)+1),CalKeys,0)),""),"") | C22: =IFERROR(IF(SMALL(CalKeys,COUNTIF(CalKeys,"<"&C$21)+1)<C$21+1,INDEX(CalShort,MATCH(SMALL(CalKeys,COUNTIF(CalKeys,"<"&C$21)+1),CalKeys,0)),""),"") | D22: =IFERROR(IF(SMALL(CalKeys,COUNTIF(CalKeys,"<"&D$21)+1)<D$21+1,INDEX(CalShort,MATCH(SMALL(CalKeys,COUNTIF(CalKeys,"<"&D$21)+1),CalKeys,0)),""),"") | E22: =IFERROR(IF(SMALL(CalKeys,COUNTIF(CalKeys,"<"&E$21)+1)<E$21+1,INDEX(CalShort,MATCH(SMALL(CalKeys,COUNTIF(CalKeys,"<"&E$21)+1),CalKeys,0)),""),"") | F22: =IFERROR(IF(SMALL(CalKeys,COUNTIF(CalKeys,"<"&F$21)+1)<F$21+1,INDEX(CalShort,MATCH(SMALL(CalKeys,COUNTIF(CalKeys,"<"&F$21)+1),CalKeys,0)),""),"") | G22: =IFERROR(IF(SMALL(CalKeys,COUNTIF(CalKeys,"<"&G$21)+1)<G$21+1,INDEX(CalShort,MATCH(SMALL(CalKeys,COUNTIF(CalKeys,"<"&G$21)+1),CalKeys,0)),""),"") | H22: =IFERROR(IF(SMALL(CalKeys,COUNTIF(CalKeys,"<"&H$21)+1)<H$21+1,INDEX(CalShort,MATCH(SMALL(CalKeys,COUNTIF(CalKeys,"<"&H$21)+1),CalKeys,0)),""),"")
B23: =IFERROR(IF(SMALL(CalKeys,COUNTIF(CalKeys,"<"&B$21)+2)<B$21+1,INDEX(CalShort,MATCH(SMALL(CalKeys,COUNTIF(CalKeys,"<"&B$21)+2),CalKeys,0)),""),"") | C23: =IFERROR(IF(SMALL(CalKeys,COUNTIF(CalKeys,"<"&C$21)+2)<C$21+1,INDEX(CalShort,MATCH(SMALL(CalKeys,COUNTIF(CalKeys,"<"&C$21)+2),CalKeys,0)),""),"") | D23: =IFERROR(IF(SMALL(CalKeys,COUNTIF(CalKeys,"<"&D$21)+2)<D$21+1,INDEX(CalShort,MATCH(SMALL(CalKeys,COUNTIF(CalKeys,"<"&D$21)+2),CalKeys,0)),""),"") | E23: =IFERROR(IF(SMALL(CalKeys,COUNTIF(CalKeys,"<"&E$21)+2)<E$21+1,INDEX(CalShort,MATCH(SMALL(CalKeys,COUNTIF(CalKeys,"<"&E$21)+2),CalKeys,0)),""),"") | F23: =IFERROR(IF(SMALL(CalKeys,COUNTIF(CalKeys,"<"&F$21)+2)<F$21+1,INDEX(CalShort,MATCH(SMALL(CalKeys,COUNTIF(CalKeys,"<"&F$21)+2),CalKeys,0)),""),"") | G23: =IFERROR(IF(SMALL(CalKeys,COUNTIF(CalKeys,"<"&G$21)+2)<G$21+1,INDEX(CalShort,MATCH(SMALL(CalKeys,COUNTIF(CalKeys,"<"&G$21)+2),CalKeys,0)),""),"") | H23: =IFERROR(IF(SMALL(CalKeys,COUNTIF(CalKeys,"<"&H$21)+2)<H$21+1,INDEX(CalShort,MATCH(SMALL(CalKeys,COUNTIF(CalKeys,"<"&H$21)+2),CalKeys,0)),""),"") | J23: COLOR KEY
B24: =IFERROR(IF((COUNTIF(CalKeys,">="&B$21)-COUNTIF(CalKeys,">="&(B$21+1)))>3,"+"&((COUNTIF(CalKeys,">="&B$21)-COUNTIF(CalKeys,">="&(B$21+1)))-2)&" more",IF(SMALL(CalKeys,COUNTIF(CalKeys,"<"&B$21)+3)<B$21+1,INDEX(CalShort,MATCH(SMALL(CalKeys,COUNTIF(CalKeys,"<"&B$21)+3),CalKeys,0)),"")),"") | C24: =IFERROR(IF((COUNTIF(CalKeys,">="&C$21)-COUNTIF(CalKeys,">="&(C$21+1)))>3,"+"&((COUNTIF(CalKeys,">="&C$21)-COUNTIF(CalKeys,">="&(C$21+1)))-2)&" more",IF(SMALL(CalKeys,COUNTIF(CalKeys,"<"&C$21)+3)<C$21+1,INDEX(CalShort,MATCH(SMALL(CalKeys,COUNTIF(CalKeys,"<"&C$21)+3),CalKeys,0)),"")),"") | D24: =IFERROR(IF((COUNTIF(CalKeys,">="&D$21)-COUNTIF(CalKeys,">="&(D$21+1)))>3,"+"&((COUNTIF(CalKeys,">="&D$21)-COUNTIF(CalKeys,">="&(D$21+1)))-2)&" more",IF(SMALL(CalKeys,COUNTIF(CalKeys,"<"&D$21)+3)<D$21+1,INDEX(CalShort,MATCH(SMALL(CalKeys,COUNTIF(CalKeys,"<"&D$21)+3),CalKeys,0)),"")),"") | E24: =IFERROR(IF((COUNTIF(CalKeys,">="&E$21)-COUNTIF(CalKeys,">="&(E$21+1)))>3,"+"&((COUNTIF(CalKeys,">="&E$21)-COUNTIF(CalKeys,">="&(E$21+1)))-2)&" more",IF(SMALL(CalKeys,COUNTIF(CalKeys,"<"&E$21)+3)<E$21+1,INDEX(CalShort,MATCH(SMALL(CalKeys,COUNTIF(CalKeys,"<"&E$21)+3),CalKeys,0)),"")),"") | F24: =IFERROR(IF((COUNTIF(CalKeys,">="&F$21)-COUNTIF(CalKeys,">="&(F$21+1)))>3,"+"&((COUNTIF(CalKeys,">="&F$21)-COUNTIF(CalKeys,">="&(F$21+1)))-2)&" more",IF(SMALL(CalKeys,COUNTIF(CalKeys,"<"&F$21)+3)<F$21+1,INDEX(CalShort,MATCH(SMALL(CalKeys,COUNTIF(CalKeys,"<"&F$21)+3),CalKeys,0)),"")),"") | G24: =IFERROR(IF((COUNTIF(CalKeys,">="&G$21)-COUNTIF(CalKeys,">="&(G$21+1)))>3,"+"&((COUNTIF(CalKeys,">="&G$21)-COUNTIF(CalKeys,">="&(G$21+1)))-2)&" more",IF(SMALL(CalKeys,COUNTIF(CalKeys,"<"&G$21)+3)<G$21+1,INDEX(CalShort,MATCH(SMALL(CalKeys,COUNTIF(CalKeys,"<"&G$21)+3),CalKeys,0)),"")),"") | H24: =IFERROR(IF((COUNTIF(CalKeys,">="&H$21)-COUNTIF(CalKeys,">="&(H$21+1)))>3,"+"&((COUNTIF(CalKeys,">="&H$21)-COUNTIF(CalKeys,">="&(H$21+1)))-2)&" more",IF(SMALL(CalKeys,COUNTIF(CalKeys,"<"&H$21)+3)<H$21+1,INDEX(CalShort,MATCH(SMALL(CalKeys,COUNTIF(CalKeys,"<"&H$21)+3),CalKeys,0)),"")),"") | K24: Interview
B25: =$M$5+28 -> 46321 | C25: =$M$5+29 -> 46322 | D25: =$M$5+30 -> 46323 | E25: =$M$5+31 -> 46324 | F25: =$M$5+32 -> 46325 | G25: =$M$5+33 -> 46326 | H25: =$M$5+34 -> 46327 | K25: Applied
B26: =IFERROR(IF(SMALL(CalKeys,COUNTIF(CalKeys,"<"&B$25)+1)<B$25+1,INDEX(CalShort,MATCH(SMALL(CalKeys,COUNTIF(CalKeys,"<"&B$25)+1),CalKeys,0)),""),"") | C26: =IFERROR(IF(SMALL(CalKeys,COUNTIF(CalKeys,"<"&C$25)+1)<C$25+1,INDEX(CalShort,MATCH(SMALL(CalKeys,COUNTIF(CalKeys,"<"&C$25)+1),CalKeys,0)),""),"") | D26: =IFERROR(IF(SMALL(CalKeys,COUNTIF(CalKeys,"<"&D$25)+1)<D$25+1,INDEX(CalShort,MATCH(SMALL(CalKeys,COUNTIF(CalKeys,"<"&D$25)+1),CalKeys,0)),""),"") | E26: =IFERROR(IF(SMALL(CalKeys,COUNTIF(CalKeys,"<"&E$25)+1)<E$25+1,INDEX(CalShort,MATCH(SMALL(CalKeys,COUNTIF(CalKeys,"<"&E$25)+1),CalKeys,0)),""),"") | F26: =IFERROR(IF(SMALL(CalKeys,COUNTIF(CalKeys,"<"&F$25)+1)<F$25+1,INDEX(CalShort,MATCH(SMALL(CalKeys,COUNTIF(CalKeys,"<"&F$25)+1),CalKeys,0)),""),"") | G26: =IFERROR(IF(SMALL(CalKeys,COUNTIF(CalKeys,"<"&G$25)+1)<G$25+1,INDEX(CalShort,MATCH(SMALL(CalKeys,COUNTIF(CalKeys,"<"&G$25)+1),CalKeys,0)),""),"") | H26: =IFERROR(IF(SMALL(CalKeys,COUNTIF(CalKeys,"<"&H$25)+1)<H$25+1,INDEX(CalShort,MATCH(SMALL(CalKeys,COUNTIF(CalKeys,"<"&H$25)+1),CalKeys,0)),""),"") | K26: Follow-up
B27: =IFERROR(IF(SMALL(CalKeys,COUNTIF(CalKeys,"<"&B$25)+2)<B$25+1,INDEX(CalShort,MATCH(SMALL(CalKeys,COUNTIF(CalKeys,"<"&B$25)+2),CalKeys,0)),""),"") | C27: =IFERROR(IF(SMALL(CalKeys,COUNTIF(CalKeys,"<"&C$25)+2)<C$25+1,INDEX(CalShort,MATCH(SMALL(CalKeys,COUNTIF(CalKeys,"<"&C$25)+2),CalKeys,0)),""),"") | D27: =IFERROR(IF(SMALL(CalKeys,COUNTIF(CalKeys,"<"&D$25)+2)<D$25+1,INDEX(CalShort,MATCH(SMALL(CalKeys,COUNTIF(CalKeys,"<"&D$25)+2),CalKeys,0)),""),"") | E27: =IFERROR(IF(SMALL(CalKeys,COUNTIF(CalKeys,"<"&E$25)+2)<E$25+1,INDEX(CalShort,MATCH(SMALL(CalKeys,COUNTIF(CalKeys,"<"&E$25)+2),CalKeys,0)),""),"") | F27: =IFERROR(IF(SMALL(CalKeys,COUNTIF(CalKeys,"<"&F$25)+2)<F$25+1,INDEX(CalShort,MATCH(SMALL(CalKeys,COUNTIF(CalKeys,"<"&F$25)+2),CalKeys,0)),""),"") | G27: =IFERROR(IF(SMALL(CalKeys,COUNTIF(CalKeys,"<"&G$25)+2)<G$25+1,INDEX(CalShort,MATCH(SMALL(CalKeys,COUNTIF(CalKeys,"<"&G$25)+2),CalKeys,0)),""),"") | H27: =IFERROR(IF(SMALL(CalKeys,COUNTIF(CalKeys,"<"&H$25)+2)<H$25+1,INDEX(CalShort,MATCH(SMALL(CalKeys,COUNTIF(CalKeys,"<"&H$25)+2),CalKeys,0)),""),"") | K27: Overdue follow-up
B28: =IFERROR(IF((COUNTIF(CalKeys,">="&B$25)-COUNTIF(CalKeys,">="&(B$25+1)))>3,"+"&((COUNTIF(CalKeys,">="&B$25)-COUNTIF(CalKeys,">="&(B$25+1)))-2)&" more",IF(SMALL(CalKeys,COUNTIF(CalKeys,"<"&B$25)+3)<B$25+1,INDEX(CalShort,MATCH(SMALL(CalKeys,COUNTIF(CalKeys,"<"&B$25)+3),CalKeys,0)),"")),"") | C28: =IFERROR(IF((COUNTIF(CalKeys,">="&C$25)-COUNTIF(CalKeys,">="&(C$25+1)))>3,"+"&((COUNTIF(CalKeys,">="&C$25)-COUNTIF(CalKeys,">="&(C$25+1)))-2)&" more",IF(SMALL(CalKeys,COUNTIF(CalKeys,"<"&C$25)+3)<C$25+1,INDEX(CalShort,MATCH(SMALL(CalKeys,COUNTIF(CalKeys,"<"&C$25)+3),CalKeys,0)),"")),"") | D28: =IFERROR(IF((COUNTIF(CalKeys,">="&D$25)-COUNTIF(CalKeys,">="&(D$25+1)))>3,"+"&((COUNTIF(CalKeys,">="&D$25)-COUNTIF(CalKeys,">="&(D$25+1)))-2)&" more",IF(SMALL(CalKeys,COUNTIF(CalKeys,"<"&D$25)+3)<D$25+1,INDEX(CalShort,MATCH(SMALL(CalKeys,COUNTIF(CalKeys,"<"&D$25)+3),CalKeys,0)),"")),"") | E28: =IFERROR(IF((COUNTIF(CalKeys,">="&E$25)-COUNTIF(CalKeys,">="&(E$25+1)))>3,"+"&((COUNTIF(CalKeys,">="&E$25)-COUNTIF(CalKeys,">="&(E$25+1)))-2)&" more",IF(SMALL(CalKeys,COUNTIF(CalKeys,"<"&E$25)+3)<E$25+1,INDEX(CalShort,MATCH(SMALL(CalKeys,COUNTIF(CalKeys,"<"&E$25)+3),CalKeys,0)),"")),"") | F28: =IFERROR(IF((COUNTIF(CalKeys,">="&F$25)-COUNTIF(CalKeys,">="&(F$25+1)))>3,"+"&((COUNTIF(CalKeys,">="&F$25)-COUNTIF(CalKeys,">="&(F$25+1)))-2)&" more",IF(SMALL(CalKeys,COUNTIF(CalKeys,"<"&F$25)+3)<F$25+1,INDEX(CalShort,MATCH(SMALL(CalKeys,COUNTIF(CalKeys,"<"&F$25)+3),CalKeys,0)),"")),"") | G28: =IFERROR(IF((COUNTIF(CalKeys,">="&G$25)-COUNTIF(CalKeys,">="&(G$25+1)))>3,"+"&((COUNTIF(CalKeys,">="&G$25)-COUNTIF(CalKeys,">="&(G$25+1)))-2)&" more",IF(SMALL(CalKeys,COUNTIF(CalKeys,"<"&G$25)+3)<G$25+1,INDEX(CalShort,MATCH(SMALL(CalKeys,COUNTIF(CalKeys,"<"&G$25)+3),CalKeys,0)),"")),"") | H28: =IFERROR(IF((COUNTIF(CalKeys,">="&H$25)-COUNTIF(CalKeys,">="&(H$25+1)))>3,"+"&((COUNTIF(CalKeys,">="&H$25)-COUNTIF(CalKeys,">="&(H$25+1)))-2)&" more",IF(SMALL(CalKeys,COUNTIF(CalKeys,"<"&H$25)+3)<H$25+1,INDEX(CalShort,MATCH(SMALL(CalKeys,COUNTIF(CalKeys,"<"&H$25)+3),CalKeys,0)),"")),"") | K28: Offer deadline
B29: =$M$5+35 -> 46328 | C29: =$M$5+36 -> 46329 | D29: =$M$5+37 -> 46330 | E29: =$M$5+38 -> 46331 | F29: =$M$5+39 -> 46332 | G29: =$M$5+40 -> 46333 | H29: =$M$5+41 -> 46334
B30: =IFERROR(IF(SMALL(CalKeys,COUNTIF(CalKeys,"<"&B$29)+1)<B$29+1,INDEX(CalShort,MATCH(SMALL(CalKeys,COUNTIF(CalKeys,"<"&B$29)+1),CalKeys,0)),""),"") | C30: =IFERROR(IF(SMALL(CalKeys,COUNTIF(CalKeys,"<"&C$29)+1)<C$29+1,INDEX(CalShort,MATCH(SMALL(CalKeys,COUNTIF(CalKeys,"<"&C$29)+1),CalKeys,0)),""),"") | D30: =IFERROR(IF(SMALL(CalKeys,COUNTIF(CalKeys,"<"&D$29)+1)<D$29+1,INDEX(CalShort,MATCH(SMALL(CalKeys,COUNTIF(CalKeys,"<"&D$29)+1),CalKeys,0)),""),"") | E30: =IFERROR(IF(SMALL(CalKeys,COUNTIF(CalKeys,"<"&E$29)+1)<E$29+1,INDEX(CalShort,MATCH(SMALL(CalKeys,COUNTIF(CalKeys,"<"&E$29)+1),CalKeys,0)),""),"") | F30: =IFERROR(IF(SMALL(CalKeys,COUNTIF(CalKeys,"<"&F$29)+1)<F$29+1,INDEX(CalShort,MATCH(SMALL(CalKeys,COUNTIF(CalKeys,"<"&F$29)+1),CalKeys,0)),""),"") | G30: =IFERROR(IF(SMALL(CalKeys,COUNTIF(CalKeys,"<"&G$29)+1)<G$29+1,INDEX(CalShort,MATCH(SMALL(CalKeys,COUNTIF(CalKeys,"<"&G$29)+1),CalKeys,0)),""),"") | H30: =IFERROR(IF(SMALL(CalKeys,COUNTIF(CalKeys,"<"&H$29)+1)<H$29+1,INDEX(CalShort,MATCH(SMALL(CalKeys,COUNTIF(CalKeys,"<"&H$29)+1),CalKeys,0)),""),"")
B31: =IFERROR(IF(SMALL(CalKeys,COUNTIF(CalKeys,"<"&B$29)+2)<B$29+1,INDEX(CalShort,MATCH(SMALL(CalKeys,COUNTIF(CalKeys,"<"&B$29)+2),CalKeys,0)),""),"") | C31: =IFERROR(IF(SMALL(CalKeys,COUNTIF(CalKeys,"<"&C$29)+2)<C$29+1,INDEX(CalShort,MATCH(SMALL(CalKeys,COUNTIF(CalKeys,"<"&C$29)+2),CalKeys,0)),""),"") | D31: =IFERROR(IF(SMALL(CalKeys,COUNTIF(CalKeys,"<"&D$29)+2)<D$29+1,INDEX(CalShort,MATCH(SMALL(CalKeys,COUNTIF(CalKeys,"<"&D$29)+2),CalKeys,0)),""),"") | E31: =IFERROR(IF(SMALL(CalKeys,COUNTIF(CalKeys,"<"&E$29)+2)<E$29+1,INDEX(CalShort,MATCH(SMALL(CalKeys,COUNTIF(CalKeys,"<"&E$29)+2),CalKeys,0)),""),"") | F31: =IFERROR(IF(SMALL(CalKeys,COUNTIF(CalKeys,"<"&F$29)+2)<F$29+1,INDEX(CalShort,MATCH(SMALL(CalKeys,COUNTIF(CalKeys,"<"&F$29)+2),CalKeys,0)),""),"") | G31: =IFERROR(IF(SMALL(CalKeys,COUNTIF(CalKeys,"<"&G$29)+2)<G$29+1,INDEX(CalShort,MATCH(SMALL(CalKeys,COUNTIF(CalKeys,"<"&G$29)+2),CalKeys,0)),""),"") | H31: =IFERROR(IF(SMALL(CalKeys,COUNTIF(CalKeys,"<"&H$29)+2)<H$29+1,INDEX(CalShort,MATCH(SMALL(CalKeys,COUNTIF(CalKeys,"<"&H$29)+2),CalKeys,0)),""),"")
B32: =IFERROR(IF((COUNTIF(CalKeys,">="&B$29)-COUNTIF(CalKeys,">="&(B$29+1)))>3,"+"&((COUNTIF(CalKeys,">="&B$29)-COUNTIF(CalKeys,">="&(B$29+1)))-2)&" more",IF(SMALL(CalKeys,COUNTIF(CalKeys,"<"&B$29)+3)<B$29+1,INDEX(CalShort,MATCH(SMALL(CalKeys,COUNTIF(CalKeys,"<"&B$29)+3),CalKeys,0)),"")),"") | C32: =IFERROR(IF((COUNTIF(CalKeys,">="&C$29)-COUNTIF(CalKeys,">="&(C$29+1)))>3,"+"&((COUNTIF(CalKeys,">="&C$29)-COUNTIF(CalKeys,">="&(C$29+1)))-2)&" more",IF(SMALL(CalKeys,COUNTIF(CalKeys,"<"&C$29)+3)<C$29+1,INDEX(CalShort,MATCH(SMALL(CalKeys,COUNTIF(CalKeys,"<"&C$29)+3),CalKeys,0)),"")),"") | D32: =IFERROR(IF((COUNTIF(CalKeys,">="&D$29)-COUNTIF(CalKeys,">="&(D$29+1)))>3,"+"&((COUNTIF(CalKeys,">="&D$29)-COUNTIF(CalKeys,">="&(D$29+1)))-2)&" more",IF(SMALL(CalKeys,COUNTIF(CalKeys,"<"&D$29)+3)<D$29+1,INDEX(CalShort,MATCH(SMALL(CalKeys,COUNTIF(CalKeys,"<"&D$29)+3),CalKeys,0)),"")),"") | E32: =IFERROR(IF((COUNTIF(CalKeys,">="&E$29)-COUNTIF(CalKeys,">="&(E$29+1)))>3,"+"&((COUNTIF(CalKeys,">="&E$29)-COUNTIF(CalKeys,">="&(E$29+1)))-2)&" more",IF(SMALL(CalKeys,COUNTIF(CalKeys,"<"&E$29)+3)<E$29+1,INDEX(CalShort,MATCH(SMALL(CalKeys,COUNTIF(CalKeys,"<"&E$29)+3),CalKeys,0)),"")),"") | F32: =IFERROR(IF((COUNTIF(CalKeys,">="&F$29)-COUNTIF(CalKeys,">="&(F$29+1)))>3,"+"&((COUNTIF(CalKeys,">="&F$29)-COUNTIF(CalKeys,">="&(F$29+1)))-2)&" more",IF(SMALL(CalKeys,COUNTIF(CalKeys,"<"&F$29)+3)<F$29+1,INDEX(CalShort,MATCH(SMALL(CalKeys,COUNTIF(CalKeys,"<"&F$29)+3),CalKeys,0)),"")),"") | G32: =IFERROR(IF((COUNTIF(CalKeys,">="&G$29)-COUNTIF(CalKeys,">="&(G$29+1)))>3,"+"&((COUNTIF(CalKeys,">="&G$29)-COUNTIF(CalKeys,">="&(G$29+1)))-2)&" more",IF(SMALL(CalKeys,COUNTIF(CalKeys,"<"&G$29)+3)<G$29+1,INDEX(CalShort,MATCH(SMALL(CalKeys,COUNTIF(CalKeys,"<"&G$29)+3),CalKeys,0)),"")),"") | H32: =IFERROR(IF((COUNTIF(CalKeys,">="&H$29)-COUNTIF(CalKeys,">="&(H$29+1)))>3,"+"&((COUNTIF(CalKeys,">="&H$29)-COUNTIF(CalKeys,">="&(H$29+1)))-2)&" more",IF(SMALL(CalKeys,COUNTIF(CalKeys,"<"&H$29)+3)<H$29+1,INDEX(CalShort,MATCH(SMALL(CalKeys,COUNTIF(CalKeys,"<"&H$29)+3),CalKeys,0)),"")),"")

Sheet Companies
B1: JOB SEARCH WORKBOOK | M1: =St_Wishlist -> Wishlist
B2: Companies | G2: Research the workplace before you apply | K2: =TEXT(TODAY(),"ddd")&" · "&TEXT(TODAY(),"dd mmm yyyy") -> Tue · 06 Oct 2026 | M2: =St_Applied -> Applied
M3: =St_Interviewing -> Interviewing
M4: =St_Offer -> Offer
B5: COMPANIES TRACKED | C5: HIGH INTEREST | D5: AVERAGE RATING | M5: =St_Rejected -> Rejected
B6: =COUNTIF(Comp_Name,"<>") -> 0 | C6: =COUNTIF(Comp_Interest,"High") -> 0 | D6: =IFERROR(AVERAGE(Comp_Rating),"—") -> — | M6: =St_Withdrawn -> Withdrawn
B8: COMPANY | C8: WEBSITE | D8: LOCATION | E8: INDUSTRY | F8: SIZE | G8: RATING (0 to 5) | H8: STARS (auto) | I8: INTEREST | J8: APPLIED? (auto) | K8: NOTES
H9: =IF(G9="","",REPT("★",ROUND(G9,0))&REPT("☆",5-ROUND(G9,0))) | J9: =IF(B9="","",IFERROR(INDEX(App_Status,MATCH(B9,App_Company,0)),"Not applied"))
H10: =IF(G10="","",REPT("★",ROUND(G10,0))&REPT("☆",5-ROUND(G10,0))) | J10: =IF(B10="","",IFERROR(INDEX(App_Status,MATCH(B10,App_Company,0)),"Not applied"))
H11: =IF(G11="","",REPT("★",ROUND(G11,0))&REPT("☆",5-ROUND(G11,0))) | J11: =IF(B11="","",IFERROR(INDEX(App_Status,MATCH(B11,App_Company,0)),"Not applied"))
H12: =IF(G12="","",REPT("★",ROUND(G12,0))&REPT("☆",5-ROUND(G12,0))) | J12: =IF(B12="","",IFERROR(INDEX(App_Status,MATCH(B12,App_Company,0)),"Not applied"))
H13: =IF(G13="","",REPT("★",ROUND(G13,0))&REPT("☆",5-ROUND(G13,0))) | J13: =IF(B13="","",IFERROR(INDEX(App_Status,MATCH(B13,App_Company,0)),"Not applied"))
H14: =IF(G14="","",REPT("★",ROUND(G14,0))&REPT("☆",5-ROUND(G14,0))) | J14: =IF(B14="","",IFERROR(INDEX(App_Status,MATCH(B14,App_Company,0)),"Not applied"))
H15: =IF(G15="","",REPT("★",ROUND(G15,0))&REPT("☆",5-ROUND(G15,0))) | J15: =IF(B15="","",IFERROR(INDEX(App_Status,MATCH(B15,App_Company,0)),"Not applied"))
H16: =IF(G16="","",REPT("★",ROUND(G16,0))&REPT("☆",5-ROUND(G16,0))) | J16: =IF(B16="","",IFERROR(INDEX(App_Status,MATCH(B16,App_Company,0)),"Not applied"))
H17: =IF(G17="","",REPT("★",ROUND(G17,0))&REPT("☆",5-ROUND(G17,0))) | J17: =IF(B17="","",IFERROR(INDEX(App_Status,MATCH(B17,App_Company,0)),"Not applied"))
H18: =IF(G18="","",REPT("★",ROUND(G18,0))&REPT("☆",5-ROUND(G18,0))) | J18: =IF(B18="","",IFERROR(INDEX(App_Status,MATCH(B18,App_Company,0)),"Not applied"))
H19: =IF(G19="","",REPT("★",ROUND(G19,0))&REPT("☆",5-ROUND(G19,0))) | J19: =IF(B19="","",IFERROR(INDEX(App_Status,MATCH(B19,App_Company,0)),"Not applied"))
H20: =IF(G20="","",REPT("★",ROUND(G20,0))&REPT("☆",5-ROUND(G20,0))) | J20: =IF(B20="","",IFERROR(INDEX(App_Status,MATCH(B20,App_Company,0)),"Not applied"))
... H308: =IF(G308="","",REPT("★",ROUND(G308,0))&REPT("☆",5-ROUND(G308,0))) | J308: =IF(B308="","",IFERROR(INDEX(App_Status,MATCH(B308,App_Company,0)),"Not applied"))

Sheet Resume Bullets
B1: JOB SEARCH WORKBOOK
B2: Resume Bullets | D2: Keep every achievement ready to paste | G2: =TEXT(TODAY(),"ddd")&" · "&TEXT(TODAY(),"dd mmm yyyy") -> Tue · 06 Oct 2026
B5: CATEGORY | C5: ACHIEVEMENT | D5: SKILLS | E5: IMPACT | G5: BULLETS BY CATEGORY
G6: Reporting | H6: =COUNTIF(RB_Category,G6) -> 0
G7: Automation | H7: =COUNTIF(RB_Category,G7) -> 0
G8: Finance | H8: =COUNTIF(RB_Category,G8) -> 0
G9: Training | H9: =COUNTIF(RB_Category,G9) -> 0
G10: Leadership | H10: =COUNTIF(RB_Category,G10) -> 0
G11: Education | H11: =COUNTIF(RB_Category,G11) -> 0
G12: Other | H12: =COUNTIF(RB_Category,G12) -> 0
G14: SKILLS TO HIGHLIGHT
G26: HOW TO USE IT
G27: Write each achievement once, with a number. Copy the best matches into your resume for each application.

Sheet Lists
A1: Months | B1: Dashboard month | C1: Dashboard year | D1: Prep | E1: Interview result | F1: Work mode | G1: Interest | H1: Resume category | I1: Offer status | J1: Marks | K1: Calendar month | L1: Company size | M1: Calendar year
A2: January | B2: All | C2: All | D2: Not started | E2: Pending | F2: Remote | G2: High | H2: Reporting | I2: Pending | J2: ✔ | K2: Current month | L2: 1–10 | M2: Current year
A3: February | B3: January | C3: 2024 | D3: In progress | E3: Passed | F3: Hybrid | G3: Medium | H3: Automation | I3: Negotiating | J3: ○ | K3: January | L3: 11–50 | M3: 2024
A4: March | B4: February | C4: 2025 | D4: Ready | E4: Not selected | F4: On-site | G4: Low | H4: Finance | I4: Deciding | K4: February | L4: 51–200 | M4: 2025
A5: April | B5: March | C5: 2026 | D5: Done | E5: Withdrawn | H5: Training | I5: Accepted | K5: March | L5: 201–500 | M5: 2026
A6: May | B6: April | C6: 2027 | H6: Leadership | I6: Declined | K6: April | L6: 501–1,000 | M6: 2027
A7: June | B7: May | C7: 2028 | H7: Education | K7: May | L7: 1,000+ | M7: 2028
A8: July | B8: June | C8: 2029 | H8: Other | K8: June | M8: 2029
A9: August | B9: July | C9: 2030 | K9: July | M9: 2030
A10: September | B10: August | C10: 2031 | K10: August | M10: 2031
A11: October | B11: September | C11: 2032 | K11: September | M11: 2032
A12: November | B12: October | C12: 2033 | K12: October | M12: 2033
A13: December | B13: November | C13: 2034 | K13: November | M13: 2034
B14: December | C14: 2035 | K14: December | M14: 2035
C15: 2036 | M15: 2036
C16: 2037 | M16: 2037
C17: 2038 | M17: 2038
C18: 2039 | M18: 2039
C19: 2040 | M19: 2040

Sheet CalData
A1: Key | B1: Label | C1: Short label
A2: =IF(AND(Applications!C8<>"",Applications!F8<>"",Applications!G8<>St_Wishlist),INT(Applications!F8)+0.4+ROW()/1000000,"") | B2: ="Applied · "&Applications!C8 -> Applied · | C2: =B2 -> Applied ·
A3: =IF(AND(Applications!C9<>"",Applications!F9<>"",Applications!G9<>St_Wishlist),INT(Applications!F9)+0.4+ROW()/1000000,"") | B3: ="Applied · "&Applications!C9 -> Applied · | C3: =B3 -> Applied ·
A4: =IF(AND(Applications!C10<>"",Applications!F10<>"",Applications!G10<>St_Wishlist),INT(Applications!F10)+0.4+ROW()/1000000,"") | B4: ="Applied · "&Applications!C10 -> Applied · | C4: =B4 -> Applied ·
A5: =IF(AND(Applications!C11<>"",Applications!F11<>"",Applications!G11<>St_Wishlist),INT(Applications!F11)+0.4+ROW()/1000000,"") | B5: ="Applied · "&Applications!C11 -> Applied · | C5: =B5 -> Applied ·
A6: =IF(AND(Applications!C12<>"",Applications!F12<>"",Applications!G12<>St_Wishlist),INT(Applications!F12)+0.4+ROW()/1000000,"") | B6: ="Applied · "&Applications!C12 -> Applied · | C6: =B6 -> Applied ·
A7: =IF(AND(Applications!C13<>"",Applications!F13<>"",Applications!G13<>St_Wishlist),INT(Applications!F13)+0.4+ROW()/1000000,"") | B7: ="Applied · "&Applications!C13 -> Applied · | C7: =B7 -> Applied ·
A8: =IF(AND(Applications!C14<>"",Applications!F14<>"",Applications!G14<>St_Wishlist),INT(Applications!F14)+0.4+ROW()/1000000,"") | B8: ="Applied · "&Applications!C14 -> Applied · | C8: =B8 -> Applied ·
A9: =IF(AND(Applications!C15<>"",Applications!F15<>"",Applications!G15<>St_Wishlist),INT(Applications!F15)+0.4+ROW()/1000000,"") | B9: ="Applied · "&Applications!C15 -> Applied · | C9: =B9 -> Applied ·
A10: =IF(AND(Applications!C16<>"",Applications!F16<>"",Applications!G16<>St_Wishlist),INT(Applications!F16)+0.4+ROW()/1000000,"") | B10: ="Applied · "&Applications!C16 -> Applied · | C10: =B10 -> Applied ·
A11: =IF(AND(Applications!C17<>"",Applications!F17<>"",Applications!G17<>St_Wishlist),INT(Applications!F17)+0.4+ROW()/1000000,"") | B11: ="Applied · "&Applications!C17 -> Applied · | C11: =B11 -> Applied ·
A12: =IF(AND(Applications!C18<>"",Applications!F18<>"",Applications!G18<>St_Wishlist),INT(Applications!F18)+0.4+ROW()/1000000,"") | B12: ="Applied · "&Applications!C18 -> Applied · | C12: =B12 -> Applied ·
A13: =IF(AND(Applications!C19<>"",Applications!F19<>"",Applications!G19<>St_Wishlist),INT(Applications!F19)+0.4+ROW()/1000000,"") | B13: ="Applied · "&Applications!C19 -> Applied · | C13: =B13 -> Applied ·
... A501: =IF(AND(Applications!C507<>"",Applications!F507<>"",Applications!G507<>St_Wishlist),INT(Applications!F507)+0.4+ROW()/1000000,"") | B501: ="Applied · "&Applications!C507 -> Applied · | C501: =B501 -> Applied ·
A502: =IF(Applications!S8="","",INT(Applications!H8)+0.3+ROW()/1000000) | B502: =IF(Applications!H8<TODAY(),"Overdue · ","Follow up · ")&Applications!C8 -> Overdue · | C502: =B502 -> Overdue ·
A503: =IF(Applications!S9="","",INT(Applications!H9)+0.3+ROW()/1000000) | B503: =IF(Applications!H9<TODAY(),"Overdue · ","Follow up · ")&Applications!C9 -> Overdue · | C503: =B503 -> Overdue ·
A504: =IF(Applications!S10="","",INT(Applications!H10)+0.3+ROW()/1000000) | B504: =IF(Applications!H10<TODAY(),"Overdue · ","Follow up · ")&Applications!C10 -> Overdue · | C504: =B504 -> Overdue ·
A505: =IF(Applications!S11="","",INT(Applications!H11)+0.3+ROW()/1000000) | B505: =IF(Applications!H11<TODAY(),"Overdue · ","Follow up · ")&Applications!C11 -> Overdue · | C505: =B505 -> Overdue ·
A506: =IF(Applications!S12="","",INT(Applications!H12)+0.3+ROW()/1000000) | B506: =IF(Applications!H12<TODAY(),"Overdue · ","Follow up · ")&Applications!C12 -> Overdue · | C506: =B506 -> Overdue ·
A507: =IF(Applications!S13="","",INT(Applications!H13)+0.3+ROW()/1000000) | B507: =IF(Applications!H13<TODAY(),"Overdue · ","Follow up · ")&Applications!C13 -> Overdue · | C507: =B507 -> Overdue ·
A508: =IF(Applications!S14="","",INT(Applications!H14)+0.3+ROW()/1000000) | B508: =IF(Applications!H14<TODAY(),"Overdue · ","Follow up · ")&Applications!C14 -> Overdue · | C508: =B508 -> Overdue ·
A509: =IF(Applications!S15="","",INT(Applications!H15)+0.3+ROW()/1000000) | B509: =IF(Applications!H15<TODAY(),"Overdue · ","Follow up · ")&Applications!C15 -> Overdue · | C509: =B509 -> Overdue ·
A510: =IF(Applications!S16="","",INT(Applications!H16)+0.3+ROW()/1000000) | B510: =IF(Applications!H16<TODAY(),"Overdue · ","Follow up · ")&Applications!C16 -> Overdue · | C510: =B510 -> Overdue ·
A511: =IF(Applications!S17="","",INT(Applications!H17)+0.3+ROW()/1000000) | B511: =IF(Applications!H17<TODAY(),"Overdue · ","Follow up · ")&Applications!C17 -> Overdue · | C511: =B511 -> Overdue ·
A512: =IF(Applications!S18="","",INT(Applications!H18)+0.3+ROW()/1000000) | B512: =IF(Applications!H18<TODAY(),"Overdue · ","Follow up · ")&Applications!C18 -> Overdue · | C512: =B512 -> Overdue ·
A513: =IF(Applications!S19="","",INT(Applications!H19)+0.3+ROW()/1000000) | B513: =IF(Applications!H19<TODAY(),"Overdue · ","Follow up · ")&Applications!C19 -> Overdue · | C513: =B513 -> Overdue ·
... A1001: =IF(Applications!S507="","",INT(Applications!H507)+0.3+ROW()/1000000) | B1001: =IF(Applications!H507<TODAY(),"Overdue · ","Follow up · ")&Applications!C507 -> Overdue · | C1001: =B1001 -> Overdue ·
A1002: =IF(AND(Interviews!B9<>"",Interviews!D9<>""),INT(Interviews!D9)+0.1+ROW()/1000000,"") | B1002: ="Interview · "&Interviews!B9&IF(Interviews!E9="",""," · "&TEXT(Interviews!E9,"h:mm AM/PM")) -> Interview · | C1002: ="Interview · "&Interviews!B9 -> Interview ·
A1003: =IF(AND(Interviews!B10<>"",Interviews!D10<>""),INT(Interviews!D10)+0.1+ROW()/1000000,"") | B1003: ="Interview · "&Interviews!B10&IF(Interviews!E10="",""," · "&TEXT(Interviews!E10,"h:mm AM/PM")) -> Interview · | C1003: ="Interview · "&Interviews!B10 -> Interview ·
A1004: =IF(AND(Interviews!B11<>"",Interviews!D11<>""),INT(Interviews!D11)+0.1+ROW()/1000000,"") | B1004: ="Interview · "&Interviews!B11&IF(Interviews!E11="",""," · "&TEXT(Interviews!E11,"h:mm AM/PM")) -> Interview · | C1004: ="Interview · "&Interviews!B11 -> Interview ·
A1005: =IF(AND(Interviews!B12<>"",Interviews!D12<>""),INT(Interviews!D12)+0.1+ROW()/1000000,"") | B1005: ="Interview · "&Interviews!B12&IF(Interviews!E12="",""," · "&TEXT(Interviews!E12,"h:mm AM/PM")) -> Interview · | C1005: ="Interview · "&Interviews!B12 -> Interview ·
A1006: =IF(AND(Interviews!B13<>"",Interviews!D13<>""),INT(Interviews!D13)+0.1+ROW()/1000000,"") | B1006: ="Interview · "&Interviews!B13&IF(Interviews!E13="",""," · "&TEXT(Interviews!E13,"h:mm AM/PM")) -> Interview · | C1006: ="Interview · "&Interviews!B13 -> Interview ·
A1007: =IF(AND(Interviews!B14<>"",Interviews!D14<>""),INT(Interviews!D14)+0.1+ROW()/1000000,"") | B1007: ="Interview · "&Interviews!B14&IF(Interviews!E14="",""," · "&TEXT(Interviews!E14,"h:mm AM/PM")) -> Interview · | C1007: ="Interview · "&Interviews!B14 -> Interview ·
A1008: =IF(AND(Interviews!B15<>"",Interviews!D15<>""),INT(Interviews!D15)+0.1+ROW()/1000000,"") | B1008: ="Interview · "&Interviews!B15&IF(Interviews!E15="",""," · "&TEXT(Interviews!E15,"h:mm AM/PM")) -> Interview · | C1008: ="Interview · "&Interviews!B15 -> Interview ·
A1009: =IF(AND(Interviews!B16<>"",Interviews!D16<>""),INT(Interviews!D16)+0.1+ROW()/1000000,"") | B1009: ="Interview · "&Interviews!B16&IF(Interviews!E16="",""," · "&TEXT(Interviews!E16,"h:mm AM/PM")) -> Interview · | C1009: ="Interview · "&Interviews!B16 -> Interview ·
A1010: =IF(AND(Interviews!B17<>"",Interviews!D17<>""),INT(Interviews!D17)+0.1+ROW()/1000000,"") | B1010: ="Interview · "&Interviews!B17&IF(Interviews!E17="",""," · "&TEXT(Interviews!E17,"h:mm AM/PM")) -> Interview · | C1010: ="Interview · "&Interviews!B17 -> Interview ·
A1011: =IF(AND(Interviews!B18<>"",Interviews!D18<>""),INT(Interviews!D18)+0.1+ROW()/1000000,"") | B1011: ="Interview · "&Interviews!B18&IF(Interviews!E18="",""," · "&TEXT(Interviews!E18,"h:mm AM/PM")) -> Interview · | C1011: ="Interview · "&Interviews!B18 -> Interview ·
A1012: =IF(AND(Interviews!B19<>"",Interviews!D19<>""),INT(Interviews!D19)+0.1+ROW()/1000000,"") | B1012: ="Interview · "&Interviews!B19&IF(Interviews!E19="",""," · "&TEXT(Interviews!E19,"h:mm AM/PM")) -> Interview · | C1012: ="Interview · "&Interviews!B19 -> Interview ·
A1013: =IF(AND(Interviews!B20<>"",Interviews!D20<>""),INT(Interviews!D20)+0.1+ROW()/1000000,"") | B1013: ="Interview · "&Interviews!B20&IF(Interviews!E20="",""," · "&TEXT(Interviews!E20,"h:mm AM/PM")) -> Interview · | C1013: ="Interview · "&Interviews!B20 -> Interview ·
... A1501: =IF(AND(Interviews!B508<>"",Interviews!D508<>""),INT(Interviews!D508)+0.1+ROW()/1000000,"") | B1501: ="Interview · "&Interviews!B508&IF(Interviews!E508="",""," · "&TEXT(Interviews!E508,"h:mm AM/PM")) -> Interview · | C1501: ="Interview · "&Interviews!B508 -> Interview ·
A1502: =IF(AND(Offers!C10<>"",Offers!C22<>"",Offers!C12<>"Accepted",Offers!C12<>"Declined"),INT(Offers!C22)+0.2+ROW()/1000000,"") | B1502: ="Deadline · "&Offers!C10 -> Deadline · | C1502: =B1502 -> Deadline ·
A1503: =IF(AND(Offers!D10<>"",Offers!D22<>"",Offers!D12<>"Accepted",Offers!D12<>"Declined"),INT(Offers!D22)+0.2+ROW()/1000000,"") | B1503: ="Deadline · "&Offers!D10 -> Deadline · | C1503: =B1503 -> Deadline ·
A1504: =IF(AND(Offers!E10<>"",Offers!E22<>"",Offers!E12<>"Accepted",Offers!E12<>"Declined"),INT(Offers!E22)+0.2+ROW()/1000000,"") | B1504: ="Deadline · "&Offers!E10 -> Deadline · | C1504: =B1504 -> Deadline ·
A1505: =IF(AND(Offers!F10<>"",Offers!F22<>"",Offers!F12<>"Accepted",Offers!F12<>"Declined"),INT(Offers!F22)+0.2+ROW()/1000000,"") | B1505: ="Deadline · "&Offers!F10 -> Deadline · | C1505: =B1505 -> Deadline ·
